BEGIN:VCALENDAR
VERSION:2.0
PRODID:-//Yiddishland California - ECPv6.15.16//NONSGML v1.0//EN
CALSCALE:GREGORIAN
METHOD:PUBLISH
X-WR-CALNAME:Yiddishland California
X-ORIGINAL-URL:https://yiddishlandcalifornia.org
X-WR-CALDESC:Events for Yiddishland California
REFRESH-INTERVAL;VALUE=DURATION:PT1H
X-Robots-Tag:noindex
X-PUBLISHED-TTL:PT1H
BEGIN:VTIMEZONE
TZID:America/Los_Angeles
BEGIN:DAYLIGHT
TZOFFSETFROM:-0800
TZOFFSETTO:-0700
TZNAME:PDT
DTSTART:20210314T100000
END:DAYLIGHT
BEGIN:STANDARD
TZOFFSETFROM:-0700
TZOFFSETTO:-0800
TZNAME:PST
DTSTART:20211107T090000
END:STANDARD
BEGIN:DAYLIGHT
TZOFFSETFROM:-0800
TZOFFSETTO:-0700
TZNAME:PDT
DTSTART:20220313T100000
END:DAYLIGHT
BEGIN:STANDARD
TZOFFSETFROM:-0700
TZOFFSETTO:-0800
TZNAME:PST
DTSTART:20221106T090000
END:STANDARD
BEGIN:DAYLIGHT
TZOFFSETFROM:-0800
TZOFFSETTO:-0700
TZNAME:PDT
DTSTART:20230312T100000
END:DAYLIGHT
BEGIN:STANDARD
TZOFFSETFROM:-0700
TZOFFSETTO:-0800
TZNAME:PST
DTSTART:20231105T090000
END:STANDARD
END:VTIMEZONE
BEGIN:VEVENT
DTSTART;TZID=America/Los_Angeles:20220219T163000
DTEND;TZID=America/Los_Angeles:20220219T183000
DTSTAMP:20260420T025809
CREATED:20220211T151023Z
LAST-MODIFIED:20220218T022132Z
UID:2715-1645288200-1645295400@yiddishlandcalifornia.org
SUMMARY:Sklamberg Lurje Judelman Trio: Yiddish Songs of Resilience
DESCRIPTION:This new program offers a rare intimate setting to hear two of the most sought after voices in the contemporary Yiddish scene –  world-renowned Klezmatics’ front-man Lorin Sklamberg and Latvian chanteuse Sasha Lurje – presenting songs that speak to finding power in challenging moments. The Jewish people have centuries of experience dealing with difficult times\, and song has always been a way to give voice to our struggles and hopes for a better future. These diverse songs\, ranging from the contemporary to early-modern period\, help us contextualize the present moment and remind us we will make it through to better times\, as we always have.\n \nIn cooperation with UCSD Jewish Studies Program\, SAJAC\, Sunrise Foundation for Education and the Arts and L’Chaim Magazine.\n\nCost:  \nIn- Person: $30 \nOnline (through Zoom): $18 donation \nAbout the Band: \nThe band is led by Lorin Sklamberg\, famous for his work as the lead singer of the Klezmatics\, as well as an accordionist\, Chief Sound Archivist at YIVO and pioneer of the Yiddish revival. He is joined by two Berlin-based leaders of the klezmer scene – vocalist Sasha Lurje and fiddler Craig Judelman. Ms. Lurje (of Riga\, Latvia) brings to the stage her fire\, talent and charisma\, as well as a deep knowledge of Yiddishkeit learned first hand from the last of the old troubadours. Mr. Judelman grew up in Seattle amid the aftermath of the various folk revivals and made a name for himself as an old time as well as klezmer fiddler in New York before life took him to New Orleans and now Berlin. \n			\n				\n				\n				\n				\n				\nBuy Tickets on Eventbrite\n\nClick here to register with Eventbrite
URL:https://yiddishlandcalifornia.org/event/sklamberg-lurje-judelman-trio/
ORGANIZER;CN="The Yiddish Arts and Academics Association of North America":MAILTO:info@yaaana.org
END:VEVENT
END:VCALENDAR