BEGIN:VCALENDAR
VERSION:2.0
PRODID:-//Yiddishland California - ECPv6.15.16//NONSGML v1.0//EN
CALSCALE:GREGORIAN
METHOD:PUBLISH
X-ORIGINAL-URL:https://yiddishlandcalifornia.org
X-WR-CALDESC:Events for Yiddishland California
REFRESH-INTERVAL;VALUE=DURATION:PT1H
X-Robots-Tag:noindex
X-PUBLISHED-TTL:PT1H
BEGIN:VTIMEZONE
TZID:America/Los_Angeles
BEGIN:DAYLIGHT
TZOFFSETFROM:-0800
TZOFFSETTO:-0700
TZNAME:PDT
DTSTART:20210314T100000
END:DAYLIGHT
BEGIN:STANDARD
TZOFFSETFROM:-0700
TZOFFSETTO:-0800
TZNAME:PST
DTSTART:20211107T090000
END:STANDARD
BEGIN:DAYLIGHT
TZOFFSETFROM:-0800
TZOFFSETTO:-0700
TZNAME:PDT
DTSTART:20220313T100000
END:DAYLIGHT
BEGIN:STANDARD
TZOFFSETFROM:-0700
TZOFFSETTO:-0800
TZNAME:PST
DTSTART:20221106T090000
END:STANDARD
BEGIN:DAYLIGHT
TZOFFSETFROM:-0800
TZOFFSETTO:-0700
TZNAME:PDT
DTSTART:20230312T100000
END:DAYLIGHT
BEGIN:STANDARD
TZOFFSETFROM:-0700
TZOFFSETTO:-0800
TZNAME:PST
DTSTART:20231105T090000
END:STANDARD
END:VTIMEZONE
BEGIN:VEVENT
DTSTART;TZID=America/Los_Angeles:20220220T123000
DTEND;TZID=America/Los_Angeles:20220220T123000
DTSTAMP:20260420T025906
CREATED:20220211T151017Z
LAST-MODIFIED:20220211T151021Z
UID:2717-1645360200-1645360200@yiddishlandcalifornia.org
SUMMARY:A Celebration of Avrom Sutzkever’s Yiddish Poetry
DESCRIPTION:Join us for a special event celebrating the Yiddish poetry of Avrom Sutzkever in conjunction with the San Diego International Jewish Film Festival. Meet Dr. Miriam Trinh\, a meyven of Avrom Sutzkever’s poetry and Yiddish poetry in general\, in conversation with Christa Whitney\, Emily Felder\, Hadas Kalderon\, and Jana Mazurkiewicz Meisaroish. The discussion will explore Avrom Sutzkever’s poetry\, his importance as a public figure and representative of Yiddish culture in Israel and around the world\, and his lasting legacy in Yiddish and in translation. \nTo learn more about Avrom Sutzkever’s life\, poetry\, and legacy\, check out the film Ver Vet Blaybn? (Who Will Remain?) screened in-person on Feb. 10 and 14 and streamed Feb. 10-20 as part of the San Diego International Jewish Film Festival. \nThis event is a collaboration of the San Diego Jewish Film Festival\, Yiddish Book Center\, Yiddish Arts and Academics Association of North America (YAAANA)\, and Yiddishland California. \nMiriam Trinh has taught Yiddish language and literature since 1999\, in Paris\, Oxford\, Strassbourg\, Vilna\, New York\, Baltimore\, Tel Aviv and is currently teaching Yiddish at the Hebrew University of Jerusalem. Miriam Trinh has published works in the field of Modern Yiddish Literature and especially on Holocaust literature. She is also engaged in translation from and into Yiddish. \nChrista P. Whitney\, is the Producer and Co-Director of Ver Vet Blaybn? (Who Will Remain?) and the director of the Yiddish Book Center’s Wexler Oral History Project\, a growing collection of more than 1\,000 in-depth video interviews about Yiddish language and culture with people of all ages and backgrounds. \nEmily Felder\, is the Editor and Co-Director of Ver Vet Blaybn? (Who Will Remain?) whose whose work as a documentary film editor has been screened in museums\, libraries\, and schools across the country. She is now an editor and videographer based in Los Angeles\, where she continues to make films. \nHadas Kalderon\, is the Producer of Ver Vet Blaybn? (Who Will Remain?) and the granddaughter of renowned poet Avrom Sutzkever. She is an actress\, theater maker\, playwright\, and director who is currently serving as the artistic director of the National Youth Theatre. \nJana Mazurkiewicz is a doctoral candidate in Yiddish language and culture at the University of Michigan\, Ann Arbor\, and a CEO and founder of the Yiddish Arts and Academics Association of North America (YAAANA) and Yiddishland California. \nWhere: On Zoom \nWhen: Feb 20\, 12.30 p.m. \nCost: Free \nTime: In person screenings on Thursday\, February 10 at 10:30 a.m. and Monday February 14 at 10:30 a.m. \n\n\n			\n				\n				\n				\n				\n				\nBuy Tickets on Eventbrite\n\nClick here to register with Eventbrite
URL:https://yiddishlandcalifornia.org/event/a-celebration-of-avrom-sutzkevers-yiddish-poetry/
ORGANIZER;CN="The Yiddish Arts and Academics Association of North America":MAILTO:info@yaaana.org
END:VEVENT
END:VCALENDAR