BEGIN:VCALENDAR
VERSION:2.0
PRODID:-//Yiddishland California - ECPv6.15.16//NONSGML v1.0//EN
CALSCALE:GREGORIAN
METHOD:PUBLISH
X-ORIGINAL-URL:https://yiddishlandcalifornia.org
X-WR-CALDESC:Events for Yiddishland California
REFRESH-INTERVAL;VALUE=DURATION:PT1H
X-Robots-Tag:noindex
X-PUBLISHED-TTL:PT1H
BEGIN:VTIMEZONE
TZID:America/Los_Angeles
BEGIN:DAYLIGHT
TZOFFSETFROM:-0800
TZOFFSETTO:-0700
TZNAME:PDT
DTSTART:20210314T100000
END:DAYLIGHT
BEGIN:STANDARD
TZOFFSETFROM:-0700
TZOFFSETTO:-0800
TZNAME:PST
DTSTART:20211107T090000
END:STANDARD
BEGIN:DAYLIGHT
TZOFFSETFROM:-0800
TZOFFSETTO:-0700
TZNAME:PDT
DTSTART:20220313T100000
END:DAYLIGHT
BEGIN:STANDARD
TZOFFSETFROM:-0700
TZOFFSETTO:-0800
TZNAME:PST
DTSTART:20221106T090000
END:STANDARD
BEGIN:DAYLIGHT
TZOFFSETFROM:-0800
TZOFFSETTO:-0700
TZNAME:PDT
DTSTART:20230312T100000
END:DAYLIGHT
BEGIN:STANDARD
TZOFFSETFROM:-0700
TZOFFSETTO:-0800
TZNAME:PST
DTSTART:20231105T090000
END:STANDARD
END:VTIMEZONE
BEGIN:VEVENT
DTSTART;TZID=America/Los_Angeles:20220302T120000
DTEND;TZID=America/Los_Angeles:20220302T130000
DTSTAMP:20260420T011914
CREATED:20220125T175021Z
LAST-MODIFIED:20220218T021652Z
UID:2309-1646222400-1646226000@yiddishlandcalifornia.org
SUMMARY:Polish for Beginners
DESCRIPTION:Maka Catori will be teaching a 6-session conversational course of Polish for beginners. The course will allow you to start communicating with openness and ease. The classes will be in person\, each session will be 60 min long. \nBorn in Poland\, Maka has published two books and authored several articles. She holds two M.A. degrees\, one in Polish Philology and Anthropology of Culture from the University of Warsaw\, and the other one in acting and drama from the Warsaw Theater Academy. She taught young adults the elements of self-expression and interaction based on living values in her original program\, which was popular in Warsaw schools. Other professional interests include youth in theater and drama\, self-expression\, and values-based living. She is a Medical Intuitive Practitioner and has a passion for helping others. \nPrice: $25 for each class or $100 for a 6-session package for early bird registration or $125 for the 6-session package if registering after February 23. \n\n			\n				\n				\n				\n				\n				\n\n\n     \nClick here to register with Eventbrite\nBuy Tickets on Eventbrite
URL:https://yiddishlandcalifornia.org/event/polish-conversational-course/
LOCATION:Yiddishland California\, 1128 Wall St.\, La Jolla\, CA\, 92037\, United States
END:VEVENT
END:VCALENDAR