BEGIN:VCALENDAR
VERSION:2.0
PRODID:-//Yiddishland California - ECPv6.15.16//NONSGML v1.0//EN
CALSCALE:GREGORIAN
METHOD:PUBLISH
X-WR-CALNAME:Yiddishland California
X-ORIGINAL-URL:https://yiddishlandcalifornia.org
X-WR-CALDESC:Events for Yiddishland California
REFRESH-INTERVAL;VALUE=DURATION:PT1H
X-Robots-Tag:noindex
X-PUBLISHED-TTL:PT1H
BEGIN:VTIMEZONE
TZID:America/Los_Angeles
BEGIN:DAYLIGHT
TZOFFSETFROM:-0800
TZOFFSETTO:-0700
TZNAME:PDT
DTSTART:20210314T100000
END:DAYLIGHT
BEGIN:STANDARD
TZOFFSETFROM:-0700
TZOFFSETTO:-0800
TZNAME:PST
DTSTART:20211107T090000
END:STANDARD
BEGIN:DAYLIGHT
TZOFFSETFROM:-0800
TZOFFSETTO:-0700
TZNAME:PDT
DTSTART:20220313T100000
END:DAYLIGHT
BEGIN:STANDARD
TZOFFSETFROM:-0700
TZOFFSETTO:-0800
TZNAME:PST
DTSTART:20221106T090000
END:STANDARD
BEGIN:DAYLIGHT
TZOFFSETFROM:-0800
TZOFFSETTO:-0700
TZNAME:PDT
DTSTART:20230312T100000
END:DAYLIGHT
BEGIN:STANDARD
TZOFFSETFROM:-0700
TZOFFSETTO:-0800
TZNAME:PST
DTSTART:20231105T090000
END:STANDARD
END:VTIMEZONE
BEGIN:VEVENT
DTSTART;TZID=America/Los_Angeles:20220316T190000
DTEND;TZID=America/Los_Angeles:20220316T203000
DTSTAMP:20260420T023332
CREATED:20220201T134835Z
LAST-MODIFIED:20220215T032942Z
UID:2565-1647457200-1647462600@yiddishlandcalifornia.org
SUMMARY:Purim Simkhe at Yiddishland
DESCRIPTION:Enjoy a Purim simkhe at Yiddishland with fantastic guests including stars of our local Yiddish music scene\, Yale Strom and Elizabeth Schwartz from Hot Pstromi. The evening will include Purim Yiddish poetry and klezmer music. English translation will be provided as so will be nosh and mashke! \nWhen: Wednesday\, March 16\, 7 p.m. \nWhere: Yiddishland CA \nCost:  \nEarly Bird (before March 2): $15 \nRegular price (after March 2): $20 \nFrom the shtetlekh of Romania to Carnegie Hall and beyond\, Hot Pstromi has performed its scintillating repertoire for audiences throughout the world. What sets the klezmer band Hot Pstromi apart from the rest is much of its repertoire comes from Yale Strom’s field research conducted during the East Bloc era among the Jewish and Romani communities. Come join Elizabeth Schwartz (vocals\, baritone ukelele and hand percussion)\, Tim McNalley (contrabass and guitar) and 2021 San Diego Music Hall of Fame inductee Yale Strom (violin) for an evening of Purim songs\, stories and much more. \n\n\n			\n				\n				\n				\n				\n				\nBuy Tickets on Eventbrite\n\nCLICK HERE TO REGISTER WITH EVENTBRITE
URL:https://yiddishlandcalifornia.org/event/purim-simkhe-at-yiddishland/
LOCATION:Yiddishland California\, 1128 Wall St.\, La Jolla\, CA\, 92037\, United States
ORGANIZER;CN="The Yiddish Arts and Academics Association of North America":MAILTO:info@yaaana.org
END:VEVENT
END:VCALENDAR