BEGIN:VCALENDAR
VERSION:2.0
PRODID:-//Yiddishland California - ECPv6.15.16//NONSGML v1.0//EN
CALSCALE:GREGORIAN
METHOD:PUBLISH
X-WR-CALNAME:Yiddishland California
X-ORIGINAL-URL:https://yiddishlandcalifornia.org
X-WR-CALDESC:Events for Yiddishland California
REFRESH-INTERVAL;VALUE=DURATION:PT1H
X-Robots-Tag:noindex
X-PUBLISHED-TTL:PT1H
BEGIN:VTIMEZONE
TZID:America/Los_Angeles
BEGIN:DAYLIGHT
TZOFFSETFROM:-0800
TZOFFSETTO:-0700
TZNAME:PDT
DTSTART:20210314T100000
END:DAYLIGHT
BEGIN:STANDARD
TZOFFSETFROM:-0700
TZOFFSETTO:-0800
TZNAME:PST
DTSTART:20211107T090000
END:STANDARD
BEGIN:DAYLIGHT
TZOFFSETFROM:-0800
TZOFFSETTO:-0700
TZNAME:PDT
DTSTART:20220313T100000
END:DAYLIGHT
BEGIN:STANDARD
TZOFFSETFROM:-0700
TZOFFSETTO:-0800
TZNAME:PST
DTSTART:20221106T090000
END:STANDARD
BEGIN:DAYLIGHT
TZOFFSETFROM:-0800
TZOFFSETTO:-0700
TZNAME:PDT
DTSTART:20230312T100000
END:DAYLIGHT
BEGIN:STANDARD
TZOFFSETFROM:-0700
TZOFFSETTO:-0800
TZNAME:PST
DTSTART:20231105T090000
END:STANDARD
END:VTIMEZONE
BEGIN:VEVENT
DTSTART;TZID=America/Los_Angeles:20220320T140000
DTEND;TZID=America/Los_Angeles:20220320T140000
DTSTAMP:20260420T010824
CREATED:20220317T205936Z
LAST-MODIFIED:20220318T222124Z
UID:3116-1647784800-1647784800@yiddishlandcalifornia.org
SUMMARY:Through a Ukrainian Looking Glass: Dovid Hofshteyn’s Soviet Yiddish Translations of Taras Shevchenko
DESCRIPTION:​Ukrainian and Jewish literatures have long been bound by a shared history and geography\, and similarly estranged relationships to empire. The two literary traditions also influenced each other in form and content. In the 1930s\, the Soviet Yiddish poet Dovid Hofshteyn published several volumes of his translations of the Ukrainian Romantic Poet\, Taras Shevchenko. In this talk\, drawn from her recent book\, Songs in Dark Times\, Professor Glaser\, will discuss the important role of Ukrainian literature to Soviet Yiddish culture. \nWhere: on Zoom\nPrice: $18. One third of our ticket sales will go towards Nova Ukraine´s cause in Kharkiv.\n \n\nAmelia Glaser is Associate Professor of Russian and Comparative Literature at the University of California — San Diego\, where she also directs the Russian\, East European\, and Eurasian Studies\, and Jewish Studies\, programs. Her work lies at the intersection of Russian\, Jewish\, and Ukrainian literary culture. She has written about the relationship of these three groups in the territory of Ukraine in the nineteenth and twentieth centuries. She is the author of Jews and Ukrainians in Russia’s Literary Borderlands (Northwestern UP\, 2012) and Songs in Dark Times: Yiddish Poetry of Struggle from Scottsboro to Palestine (Harvard U.P.\, 2020). She is the editor of Stories of Khmelnytsky: Competing Literary Legacies of the 1648 Ukrainian Cossack Uprising (Stanford UP\, 2015) and\, with Steven Lee\, Comintern Aesthetics (U. Toronto Press\, 2020); she is the translator of Proletpen: America’s Rebel Yiddish Poets (U. Wisconsin Press\, 2005). She is currently a fellow at the Radcliffe Institute\, where she is writing a book about contemporary Ukrainian poetry and culture.\n			\n				\n				\n				\n				\n				\nBuy Tickets on Eventbrite\n\nClick here to register with Eventbrite
URL:https://yiddishlandcalifornia.org/event/through-a-ukrainian-looking-glass-dovid-hofshteyns-soviet-yiddish-translations-of-taras-shevchenko/
LOCATION:Zoom
ORGANIZER;CN="The Yiddish Arts and Academics Association of North America":MAILTO:info@yaaana.org
END:VEVENT
END:VCALENDAR