BEGIN:VCALENDAR
VERSION:2.0
PRODID:-//Yiddishland California - ECPv6.15.16//NONSGML v1.0//EN
CALSCALE:GREGORIAN
METHOD:PUBLISH
X-WR-CALNAME:Yiddishland California
X-ORIGINAL-URL:https://yiddishlandcalifornia.org
X-WR-CALDESC:Events for Yiddishland California
REFRESH-INTERVAL;VALUE=DURATION:PT1H
X-Robots-Tag:noindex
X-PUBLISHED-TTL:PT1H
BEGIN:VTIMEZONE
TZID:America/Los_Angeles
BEGIN:DAYLIGHT
TZOFFSETFROM:-0800
TZOFFSETTO:-0700
TZNAME:PDT
DTSTART:20210314T100000
END:DAYLIGHT
BEGIN:STANDARD
TZOFFSETFROM:-0700
TZOFFSETTO:-0800
TZNAME:PST
DTSTART:20211107T090000
END:STANDARD
BEGIN:DAYLIGHT
TZOFFSETFROM:-0800
TZOFFSETTO:-0700
TZNAME:PDT
DTSTART:20220313T100000
END:DAYLIGHT
BEGIN:STANDARD
TZOFFSETFROM:-0700
TZOFFSETTO:-0800
TZNAME:PST
DTSTART:20221106T090000
END:STANDARD
BEGIN:DAYLIGHT
TZOFFSETFROM:-0800
TZOFFSETTO:-0700
TZNAME:PDT
DTSTART:20230312T100000
END:DAYLIGHT
BEGIN:STANDARD
TZOFFSETFROM:-0700
TZOFFSETTO:-0800
TZNAME:PST
DTSTART:20231105T090000
END:STANDARD
END:VTIMEZONE
BEGIN:VEVENT
DTSTART;TZID=America/Los_Angeles:20220322T180000
DTEND;TZID=America/Los_Angeles:20220322T190000
DTSTAMP:20260420T005851
CREATED:20220318T223029Z
LAST-MODIFIED:20220318T224624Z
UID:3134-1647972000-1647975600@yiddishlandcalifornia.org
SUMMARY:Yiddish in Transliteration: An In-person Course for Total Beginners (First Day)
DESCRIPTION:Would you like to learn Yiddish but not sure if you want to learn the alphabet? Then this course is for you! This 6-session in-person course focuses on learning basic conversational Yiddish from scratch. \nCost:  \nEarly bird (sales end on February 8): $25 per session\, $120 for a 6-session course\, regular prices: $30 per session\, $160 for a 6-session course. \nTeacher: Jana Mazurkiewicz Meisarosh \nJana Mazurkiewicz Meisarosh is a PhD candidate in the Slavic Department at the University of Michigan\, Ann Arbor. She is working on her dissertation on Yiddish Theater in Communist Warsaw. Originally from Poland\, Jana holds a Master of Arts degree in Polish Philology and Jewish Studies from the University of Wrocław. Jana is not only a practicing academic but also an active theater artist and critic. She is an actor\, director\, playwright\, and producer of Yiddish theater. In October 2017\, she moved to San Diego and launched the Yiddish Arts and Academics Association of North America (YAAANA). \n			\n				\n				\n				\n				\n				\nBuy Tickets on Eventbrite\n\nClick here to register with eventbrite
URL:https://yiddishlandcalifornia.org/event/yiddish-in-transliteration-an-in-person-course-for-total-beginners-first-day/
LOCATION:Yiddishland California\, 1128 Wall St.\, La Jolla\, CA\, 92037\, United States
ATTACH;FMTTYPE=image/png:https://yiddishlandcalifornia.org/wp-content/uploads/2022/03/First-Friday-La-Jolla-Art-Walk-60.png
ORGANIZER;CN="The Yiddish Arts and Academics Association of North America":MAILTO:info@yaaana.org
END:VEVENT
END:VCALENDAR