BEGIN:VCALENDAR
VERSION:2.0
PRODID:-//Yiddishland California - ECPv6.15.16//NONSGML v1.0//EN
CALSCALE:GREGORIAN
METHOD:PUBLISH
X-ORIGINAL-URL:https://yiddishlandcalifornia.org
X-WR-CALDESC:Events for Yiddishland California
REFRESH-INTERVAL;VALUE=DURATION:PT1H
X-Robots-Tag:noindex
X-PUBLISHED-TTL:PT1H
BEGIN:VTIMEZONE
TZID:America/Los_Angeles
BEGIN:DAYLIGHT
TZOFFSETFROM:-0800
TZOFFSETTO:-0700
TZNAME:PDT
DTSTART:20210314T100000
END:DAYLIGHT
BEGIN:STANDARD
TZOFFSETFROM:-0700
TZOFFSETTO:-0800
TZNAME:PST
DTSTART:20211107T090000
END:STANDARD
BEGIN:DAYLIGHT
TZOFFSETFROM:-0800
TZOFFSETTO:-0700
TZNAME:PDT
DTSTART:20220313T100000
END:DAYLIGHT
BEGIN:STANDARD
TZOFFSETFROM:-0700
TZOFFSETTO:-0800
TZNAME:PST
DTSTART:20221106T090000
END:STANDARD
BEGIN:DAYLIGHT
TZOFFSETFROM:-0800
TZOFFSETTO:-0700
TZNAME:PDT
DTSTART:20230312T100000
END:DAYLIGHT
BEGIN:STANDARD
TZOFFSETFROM:-0700
TZOFFSETTO:-0800
TZNAME:PST
DTSTART:20231105T090000
END:STANDARD
END:VTIMEZONE
BEGIN:VEVENT
DTSTART;TZID=America/Los_Angeles:20220411T130000
DTEND;TZID=America/Los_Angeles:20220630T143000
DTSTAMP:20260419T203805
CREATED:20220428T075636Z
LAST-MODIFIED:20220428T075636Z
UID:3691-1649682000-1656599400@yiddishlandcalifornia.org
SUMMARY:Advanced Yiddish
DESCRIPTION:with Tanya Yakovleva \n\n\n\n\n10 online sessions\, Thursdays \nThis course taught entirely in Yiddish is for students with a good knowledge of Yiddish culture and grammar. We will read and discuss texts and biographies of Yiddish Modernists in Ukraine of the 1920-1930s such as Dovid Bergelson\, Dvoyre Fogel\, Dovid Hofshteyn\, Perets Markish\, Leyb Kvitko\, and Khane Levin. Grammar to be repeated will be drawn from the texts. You will learn new literary terms and have an understanding of the main processes and movements in the development of Yiddish Modernism. \nTuition: $270 all 10 weeks or $30 for a 90 minute online class. \nStudents: $230 all 10 weeks or $25 for a 90 minute online class. \n\n\nTo register: https://yaaana.org/advanced-yiddish/
URL:https://yiddishlandcalifornia.org/event/advanced-yiddish/
LOCATION:Zoom
ORGANIZER;CN="The Yiddish Arts and Academics Association of North America":MAILTO:info@yaaana.org
END:VEVENT
BEGIN:VEVENT
DTSTART;TZID=America/Los_Angeles:20220614T110000
DTEND;TZID=America/Los_Angeles:20220614T120000
DTSTAMP:20260419T203805
CREATED:20220605T215436Z
LAST-MODIFIED:20220605T215436Z
UID:4130-1655204400-1655208000@yiddishlandcalifornia.org
SUMMARY:Yiddish Shmueskrayz
DESCRIPTION:Join us to practice your Yiddish and have a good time getting to know fellow Yiddish speakers! We will speak in mame-loshn about diverse topics\, including conversation both as a group and in smaller cohorts. We will also try to solve a couple of riddles and learn some Yiddish expressions and sayings to enrich your repertoire. The session will be broadcast on Zoom. \nTo register: https://yiddishlandcalifornia.org/yiddish-shmueskrayz/
URL:https://yiddishlandcalifornia.org/event/yiddish-shmueskrayz/
LOCATION:Yiddishland California and Zoom
ORGANIZER;CN="Yiddishland California":MAILTO:info@yiddishlandcalifornia.org
END:VEVENT
BEGIN:VEVENT
DTSTART;TZID=America/Los_Angeles:20220614T190000
DTEND;TZID=America/Los_Angeles:20220614T203000
DTSTAMP:20260419T203805
CREATED:20220605T220312Z
LAST-MODIFIED:20220605T220312Z
UID:4135-1655233200-1655238600@yiddishlandcalifornia.org
SUMMARY:Yiddish Culture in Mexico
DESCRIPTION:Did you know that Yiddish was taught in Mexican schools into the 21st century? In this 50 min session\, we will explore diverse aspects of the rich history of Yiddish culture in Mexico. We will get to read\, in English\, some amazing Yiddish poems\, and we\nwill learn a couple of interesting sayings. The session will be broadcast on Zoom.\nTo register: https://yiddishlandcalifornia.org/culture-in-mexico/
URL:https://yiddishlandcalifornia.org/event/yiddish-culture-in-mexico/
LOCATION:Yiddishland California and Zoom
ATTACH;FMTTYPE=image/png:https://yiddishlandcalifornia.org/wp-content/uploads/2022/06/YiddishinMexico.png
ORGANIZER;CN="Yiddishland California":MAILTO:info@yiddishlandcalifornia.org
END:VEVENT
END:VCALENDAR