BEGIN:VCALENDAR
VERSION:2.0
PRODID:-//Yiddishland California - ECPv6.15.16//NONSGML v1.0//EN
CALSCALE:GREGORIAN
METHOD:PUBLISH
X-WR-CALNAME:Yiddishland California
X-ORIGINAL-URL:https://yiddishlandcalifornia.org
X-WR-CALDESC:Events for Yiddishland California
REFRESH-INTERVAL;VALUE=DURATION:PT1H
X-Robots-Tag:noindex
X-PUBLISHED-TTL:PT1H
BEGIN:VTIMEZONE
TZID:America/Los_Angeles
BEGIN:DAYLIGHT
TZOFFSETFROM:-0800
TZOFFSETTO:-0700
TZNAME:PDT
DTSTART:20210314T100000
END:DAYLIGHT
BEGIN:STANDARD
TZOFFSETFROM:-0700
TZOFFSETTO:-0800
TZNAME:PST
DTSTART:20211107T090000
END:STANDARD
BEGIN:DAYLIGHT
TZOFFSETFROM:-0800
TZOFFSETTO:-0700
TZNAME:PDT
DTSTART:20220313T100000
END:DAYLIGHT
BEGIN:STANDARD
TZOFFSETFROM:-0700
TZOFFSETTO:-0800
TZNAME:PST
DTSTART:20221106T090000
END:STANDARD
BEGIN:DAYLIGHT
TZOFFSETFROM:-0800
TZOFFSETTO:-0700
TZNAME:PDT
DTSTART:20230312T100000
END:DAYLIGHT
BEGIN:STANDARD
TZOFFSETFROM:-0700
TZOFFSETTO:-0800
TZNAME:PST
DTSTART:20231105T090000
END:STANDARD
END:VTIMEZONE
BEGIN:VEVENT
DTSTART;TZID=America/Los_Angeles:20220627T130000
DTEND;TZID=America/Los_Angeles:20220905T143000
DTSTAMP:20260419T170541
CREATED:20220613T031234Z
LAST-MODIFIED:20220723T202225Z
UID:4428-1656334800-1662388200@yiddishlandcalifornia.org
SUMMARY:Yiddish for Beginners II with Tanya Yakovleva
DESCRIPTION:If you are already familiar with the alef-beys\, then this is the course for you. We will follow the interdisciplinary approach to language learning and use different Yiddish textbooks. Through watching informative videos about famous figures in Yiddish culture\, discussing films\, and singing Yiddish songs\, this course will cover all four areas of language learning: speaking\, writing\, reading\, and listening. \nTo register: https://yiddishlandcalifornia.org/yiddish-for-beginners-ii/
URL:https://yiddishlandcalifornia.org/event/yiddish-for-beginners-ii-with-tanya-yakovleva/
LOCATION:Zoom
ATTACH;FMTTYPE=image/jpeg:https://yiddishlandcalifornia.org/wp-content/uploads/2022/06/285347493_550114816730902_1180817080578114237_n.jpg
ORGANIZER;CN="Yiddishland California":MAILTO:info@yiddishlandcalifornia.org
END:VEVENT
BEGIN:VEVENT
DTSTART;TZID=America/Los_Angeles:20220628T120000
DTEND;TZID=America/Los_Angeles:20220906T130000
DTSTAMP:20260419T170541
CREATED:20220615T023703Z
LAST-MODIFIED:20220723T202055Z
UID:4492-1656417600-1662469200@yiddishlandcalifornia.org
SUMMARY:Yiddish for Beginners I with Tanya Yakovleva
DESCRIPTION:This class for total beginners emphasizes spoken and written communication\, and provides a basic introduction to Yiddish culture. By the end of the course\, students will be able to understand basic Yiddish and express themselves. Through watching informative videos about famous figures in Yiddish culture\, discussing films\, and singing Yiddish songs\, this course will cover all four areas of language learning: speaking\, writing\, reading\, and listening. \nTo register: https://yiddishlandcalifornia.org/yiddish-for-beginners-i/
URL:https://yiddishlandcalifornia.org/event/yiddish-for-beginners-i-with-tanya-yakovleva/
LOCATION:Zoom
ATTACH;FMTTYPE=image/jpeg:https://yiddishlandcalifornia.org/wp-content/uploads/2022/06/YiddishForBeginnersImg.jpg
ORGANIZER;CN="Yiddishland California":MAILTO:info@yiddishlandcalifornia.org
END:VEVENT
BEGIN:VEVENT
DTSTART;TZID=America/Los_Angeles:20220628T130000
DTEND;TZID=America/Los_Angeles:20220906T143000
DTSTAMP:20260419T170541
CREATED:20220613T033359Z
LAST-MODIFIED:20220723T201928Z
UID:4430-1656421200-1662474600@yiddishlandcalifornia.org
SUMMARY:Yiddish for Intermediate I with Tanya Yakovleva
DESCRIPTION:In this course\, you will build on the grammatical knowledge acquired while attending YAAANA’s Beginner II class series or a similar Yiddish course. We will use different materials and repeat skills gained in the previous level such as conjugation in the past and future times. Students will gain knowledge of how to compare adjectives\, to use contractions\, conditional sentences and possessive forms\, and how to say dates in Yiddish according to the Jewish Calendar. ​​You further develop speaking\, reading\, writing\, and comprehension skills by listening to informative videos about famous figures in Yiddish culture\, and discussing films and songs in Yiddish. \nTo register: https://yiddishlandcalifornia.org/yiddish-for-intermediate-i-students/
URL:https://yiddishlandcalifornia.org/event/yiddish-for-intermediate-i-with-tanya-yakovleva/
LOCATION:Zoom
ATTACH;FMTTYPE=image/jpeg:https://yiddishlandcalifornia.org/wp-content/uploads/2022/06/285022784_1479339305855319_1150013771796525841_n.jpg
ORGANIZER;CN="Yiddishland California":MAILTO:info@yiddishlandcalifornia.org
END:VEVENT
BEGIN:VEVENT
DTSTART;TZID=America/Los_Angeles:20220629T120000
DTEND;TZID=America/Los_Angeles:20220907T130000
DTSTAMP:20260419T170541
CREATED:20220613T035043Z
LAST-MODIFIED:20220723T201802Z
UID:4433-1656504000-1662555600@yiddishlandcalifornia.org
SUMMARY:Leyenkrayz for Intermediate and Advanced with Tanya Yakovleva
DESCRIPTION:In this course conducted entirely in Yiddish\, students of intermediate II level will practice reading and translating skills without judgment and comparisons. We will read and translate Itsik Manger’s satirical novel Di vunderlekhe lebns-bashraybung fun Shmuel-Abe Abervo (Dos bukh fun gan-eydn) /The Amazing Life Story of Shmuel-Abe Abervo (The Book of the Garden of Eden) written in 1939. You will learn a new vocabulary and have an understanding of the Yiddish history and culture. \nTo register: https://yiddishlandcalifornia.org/leyenkrayz-for-intermediate-and-advanced/
URL:https://yiddishlandcalifornia.org/event/leyenkrayz-for-intermediate-and-advanced-with-tanya-yakovleva/
LOCATION:Zoom
ATTACH;FMTTYPE=image/jpeg:https://yiddishlandcalifornia.org/wp-content/uploads/2022/06/285301896_1388045238362083_1841063429885905558_n.jpg
ORGANIZER;CN="Yiddishland California":MAILTO:info@yiddishlandcalifornia.org
END:VEVENT
BEGIN:VEVENT
DTSTART;TZID=America/Los_Angeles:20220728T130000
DTEND;TZID=America/Los_Angeles:20220901T143000
DTSTAMP:20260419T170541
CREATED:20220722T223024Z
LAST-MODIFIED:20220725T221224Z
UID:5053-1659013200-1662042600@yiddishlandcalifornia.org
SUMMARY:Yiddish for Beginners I with Arturo Kerbel
DESCRIPTION:he Hebrew alphabet and your first Yiddish words are building blocks of Jewish identity\, culture\, and heritage. Join us and learn how to read and write Yiddish\, some basic words\, and useful phrases. Different methods that include music\, poetry\, and other computer-based programs will be used to enrich the experience. \nTo register: https://yiddishlandcalifornia.org/yiddish-for-beginners-i-arturo/
URL:https://yiddishlandcalifornia.org/event/yiddish-for-beginners-i-with-arturo-kerbel/
LOCATION:Zoom
ORGANIZER;CN="Yiddishland California":MAILTO:info@yiddishlandcalifornia.org
END:VEVENT
BEGIN:VEVENT
DTSTART;TZID=America/Los_Angeles:20220827T193000
DTEND;TZID=America/Los_Angeles:20220827T213000
DTSTAMP:20260419T170541
CREATED:20220817T180321Z
LAST-MODIFIED:20220817T180321Z
UID:5903-1661628600-1661635800@yiddishlandcalifornia.org
SUMMARY:No End to Yiddishland – a Presentation by Jana Mazurkiewicz Meisarosh
DESCRIPTION:This is your chance to hear about highlights from the past five years and plans for the future\, as well as to socialize with other supporters\, including our Board members. Nosh will be generously provided by La Jolla’s Olive and Basil restaurant; drinks are on us! The event will take place in a residential venue in La Jolla. We will send the address information to registered guests. The event will also be broadcast on Zoom. \nWhere:  La Jolla \nTickets: $18 for in-person early bird tickets (the discount expires on August 20)\, $25 for last-minute in-person tickets. Nosh and drinks included \n\n\n\n\n\n\n\n$10 for Zoom early bird tickets (the discount expires on August 20)\, $15 for last-minute Zoom tickets
URL:https://yiddishlandcalifornia.org/event/no-end-to-yiddishland-a-presentation-by-jana-mazurkiewicz-meisarosh/
LOCATION:A venue in La Jolla (address provided upon registration) and via Zoom
ATTACH;FMTTYPE=image/png:https://yiddishlandcalifornia.org/wp-content/uploads/2022/08/Diseño-sin-título-3.png
ORGANIZER;CN="Yiddishland California":MAILTO:info@yiddishlandcalifornia.org
END:VEVENT
END:VCALENDAR