BEGIN:VCALENDAR
VERSION:2.0
PRODID:-//Yiddishland California - ECPv6.15.16//NONSGML v1.0//EN
CALSCALE:GREGORIAN
METHOD:PUBLISH
X-WR-CALNAME:Yiddishland California
X-ORIGINAL-URL:https://yiddishlandcalifornia.org
X-WR-CALDESC:Events for Yiddishland California
REFRESH-INTERVAL;VALUE=DURATION:PT1H
X-Robots-Tag:noindex
X-PUBLISHED-TTL:PT1H
BEGIN:VTIMEZONE
TZID:America/Los_Angeles
BEGIN:DAYLIGHT
TZOFFSETFROM:-0800
TZOFFSETTO:-0700
TZNAME:PDT
DTSTART:20230312T100000
END:DAYLIGHT
BEGIN:STANDARD
TZOFFSETFROM:-0700
TZOFFSETTO:-0800
TZNAME:PST
DTSTART:20231105T090000
END:STANDARD
BEGIN:DAYLIGHT
TZOFFSETFROM:-0800
TZOFFSETTO:-0700
TZNAME:PDT
DTSTART:20240310T100000
END:DAYLIGHT
BEGIN:STANDARD
TZOFFSETFROM:-0700
TZOFFSETTO:-0800
TZNAME:PST
DTSTART:20241103T090000
END:STANDARD
BEGIN:DAYLIGHT
TZOFFSETFROM:-0800
TZOFFSETTO:-0700
TZNAME:PDT
DTSTART:20250309T100000
END:DAYLIGHT
BEGIN:STANDARD
TZOFFSETFROM:-0700
TZOFFSETTO:-0800
TZNAME:PST
DTSTART:20251102T090000
END:STANDARD
END:VTIMEZONE
BEGIN:VEVENT
DTSTART;TZID=America/Los_Angeles:20240131T110000
DTEND;TZID=America/Los_Angeles:20240131T120000
DTSTAMP:20260424T121837
CREATED:20240108T181835Z
LAST-MODIFIED:20240125T053328Z
UID:14041-1706698800-1706702400@yiddishlandcalifornia.org
SUMMARY:Yiddish Shmueskrayz
DESCRIPTION:If you want to practice your Yiddish and have a good time getting to know people\, this is the right course for you. We will speak in mame-loshn about diverse topics. We will have a conversation both as a group and in smaller cohorts according to level. Some of the sessions will be focused on a specific topic. We will also try to solve a couple of riddles and learn some Yiddish expressions and sayings to enrich our Yiddish repertoire. This is a course for upper-intermediate and advanced learners of Yiddish as we will be working according to level. \nWhere: Online via Zoom
URL:https://yiddishlandcalifornia.org/event/yiddish-shmueskrayz-6/
END:VEVENT
BEGIN:VEVENT
DTSTART;TZID=America/Los_Angeles:20240131T130000
DTEND;TZID=America/Los_Angeles:20240131T140000
DTSTAMP:20260424T121837
CREATED:20231128T182402Z
LAST-MODIFIED:20240125T053728Z
UID:13537-1706706000-1706709600@yiddishlandcalifornia.org
SUMMARY:Leyenkrayz (Reading Circle) for Intermediate and Advanced Students
DESCRIPTION:This event is one that you won’t forget. Students of intermediate II level will practice reading and translating skills without judgment and comparisons. \nWhere: Online via Zoom
URL:https://yiddishlandcalifornia.org/event/leyenkrayz-reading-circle-for-intermediate-and-advanced-students-10/
END:VEVENT
END:VCALENDAR