BEGIN:VCALENDAR
VERSION:2.0
PRODID:-//Yiddishland California - ECPv6.15.16//NONSGML v1.0//EN
CALSCALE:GREGORIAN
METHOD:PUBLISH
X-ORIGINAL-URL:https://yiddishlandcalifornia.org
X-WR-CALDESC:Events for Yiddishland California
REFRESH-INTERVAL;VALUE=DURATION:PT1H
X-Robots-Tag:noindex
X-PUBLISHED-TTL:PT1H
BEGIN:VTIMEZONE
TZID:America/Los_Angeles
BEGIN:DAYLIGHT
TZOFFSETFROM:-0800
TZOFFSETTO:-0700
TZNAME:PDT
DTSTART:20230312T100000
END:DAYLIGHT
BEGIN:STANDARD
TZOFFSETFROM:-0700
TZOFFSETTO:-0800
TZNAME:PST
DTSTART:20231105T090000
END:STANDARD
BEGIN:DAYLIGHT
TZOFFSETFROM:-0800
TZOFFSETTO:-0700
TZNAME:PDT
DTSTART:20240310T100000
END:DAYLIGHT
BEGIN:STANDARD
TZOFFSETFROM:-0700
TZOFFSETTO:-0800
TZNAME:PST
DTSTART:20241103T090000
END:STANDARD
BEGIN:DAYLIGHT
TZOFFSETFROM:-0800
TZOFFSETTO:-0700
TZNAME:PDT
DTSTART:20250309T100000
END:DAYLIGHT
BEGIN:STANDARD
TZOFFSETFROM:-0700
TZOFFSETTO:-0800
TZNAME:PST
DTSTART:20251102T090000
END:STANDARD
END:VTIMEZONE
BEGIN:VEVENT
DTSTART;TZID=America/Los_Angeles:20240324T170000
DTEND;TZID=America/Los_Angeles:20240324T200000
DTSTAMP:20260424T103519
CREATED:20240320T195125Z
LAST-MODIFIED:20250929T155722Z
UID:15027-1711299600-1711310400@yiddishlandcalifornia.org
SUMMARY:Lotería with Queen Esther – Exclusive Yiddishland Purim Fusion Event
DESCRIPTION:Mix up your Purim!  Make noise with our young Queen Esther! Cast your lot at Yiddishland with our first ever classical Mexican Loteria event! In celebration of Purim and our schlep to Mexico happening shortly after this holiday\, we will host Purim-themed nosh and mashke accompanying several rounds of classical Mexican Lotería!
URL:https://yiddishlandcalifornia.org/event/loteria-with-queen-esther-exclusive-yiddishland-purim-fusion-event/
LOCATION:Yiddishland California\, 1128 Wall St\, La Jolla\, CA\, 92037\, United States
END:VEVENT
END:VCALENDAR