BEGIN:VCALENDAR
VERSION:2.0
PRODID:-//Yiddishland California - ECPv6.15.16//NONSGML v1.0//EN
CALSCALE:GREGORIAN
METHOD:PUBLISH
X-ORIGINAL-URL:https://yiddishlandcalifornia.org
X-WR-CALDESC:Events for Yiddishland California
REFRESH-INTERVAL;VALUE=DURATION:PT1H
X-Robots-Tag:noindex
X-PUBLISHED-TTL:PT1H
BEGIN:VTIMEZONE
TZID:America/Los_Angeles
BEGIN:DAYLIGHT
TZOFFSETFROM:-0800
TZOFFSETTO:-0700
TZNAME:PDT
DTSTART:20230312T100000
END:DAYLIGHT
BEGIN:STANDARD
TZOFFSETFROM:-0700
TZOFFSETTO:-0800
TZNAME:PST
DTSTART:20231105T090000
END:STANDARD
BEGIN:DAYLIGHT
TZOFFSETFROM:-0800
TZOFFSETTO:-0700
TZNAME:PDT
DTSTART:20240310T100000
END:DAYLIGHT
BEGIN:STANDARD
TZOFFSETFROM:-0700
TZOFFSETTO:-0800
TZNAME:PST
DTSTART:20241103T090000
END:STANDARD
BEGIN:DAYLIGHT
TZOFFSETFROM:-0800
TZOFFSETTO:-0700
TZNAME:PDT
DTSTART:20250309T100000
END:DAYLIGHT
BEGIN:STANDARD
TZOFFSETFROM:-0700
TZOFFSETTO:-0800
TZNAME:PST
DTSTART:20251102T090000
END:STANDARD
END:VTIMEZONE
BEGIN:VEVENT
DTSTART;VALUE=DATE:20240327
DTEND;VALUE=DATE:20240406
DTSTAMP:20260424T085248
CREATED:20240327T133103Z
LAST-MODIFIED:20250929T155840Z
UID:15171-1711497600-1712361599@yiddishlandcalifornia.org
SUMMARY:Final Fire Sale
DESCRIPTION:Our final liquidation sale is here at Yiddishland California ! Please call 858-220-2992 to make an appointment. Additionally\, we will have surprise Yiddishland gifts for people who purchase Yiddishland merchandise and who donate a minimum of $180.
URL:https://yiddishlandcalifornia.org/event/final-fire-sale-ends/
LOCATION:Yiddishland California\, 1128 Wall St.\, La Jolla\, CA\, 92037\, United States
END:VEVENT
BEGIN:VEVENT
DTSTART;TZID=America/Los_Angeles:20240331T080000
DTEND;TZID=America/Los_Angeles:20240331T090000
DTSTAMP:20260424T085248
CREATED:20240301T203148Z
LAST-MODIFIED:20250929T160045Z
UID:14862-1711872000-1711875600@yiddishlandcalifornia.org
SUMMARY:Friling Tkufe – Yoga Spring Equinox
DESCRIPTION:In this yoga class we will move with the breath to embrace the energies of rebirth and new beginnings.  The slow and gentle nature of this class is perfect for beginners and is also great for other students who can sink deeper into their practice. The language of instruction is Yiddish with English translation.
URL:https://yiddishlandcalifornia.org/event/friling-tkufe-yoga-spring-equinox/
LOCATION:Zoom
END:VEVENT
END:VCALENDAR