BEGIN:VCALENDAR
VERSION:2.0
PRODID:-//Yiddishland California - ECPv6.15.16//NONSGML v1.0//EN
CALSCALE:GREGORIAN
METHOD:PUBLISH
X-WR-CALNAME:Yiddishland California
X-ORIGINAL-URL:https://yiddishlandcalifornia.org
X-WR-CALDESC:Events for Yiddishland California
REFRESH-INTERVAL;VALUE=DURATION:PT1H
X-Robots-Tag:noindex
X-PUBLISHED-TTL:PT1H
BEGIN:VTIMEZONE
TZID:America/Los_Angeles
BEGIN:DAYLIGHT
TZOFFSETFROM:-0800
TZOFFSETTO:-0700
TZNAME:PDT
DTSTART:20230312T100000
END:DAYLIGHT
BEGIN:STANDARD
TZOFFSETFROM:-0700
TZOFFSETTO:-0800
TZNAME:PST
DTSTART:20231105T090000
END:STANDARD
BEGIN:DAYLIGHT
TZOFFSETFROM:-0800
TZOFFSETTO:-0700
TZNAME:PDT
DTSTART:20240310T100000
END:DAYLIGHT
BEGIN:STANDARD
TZOFFSETFROM:-0700
TZOFFSETTO:-0800
TZNAME:PST
DTSTART:20241103T090000
END:STANDARD
BEGIN:DAYLIGHT
TZOFFSETFROM:-0800
TZOFFSETTO:-0700
TZNAME:PDT
DTSTART:20250309T100000
END:DAYLIGHT
BEGIN:STANDARD
TZOFFSETFROM:-0700
TZOFFSETTO:-0800
TZNAME:PST
DTSTART:20251102T090000
END:STANDARD
END:VTIMEZONE
BEGIN:VEVENT
DTSTART;TZID=America/Los_Angeles:20240429T183000
DTEND;TZID=America/Los_Angeles:20240513T203000
DTSTAMP:20260424T065909
CREATED:20240502T184351Z
LAST-MODIFIED:20250929T153611Z
UID:15474-1714415400-1715632200@yiddishlandcalifornia.org
SUMMARY:Yiddishland Stronger Together Support Group
DESCRIPTION:Do you feel sadness\, grief\, anxiety\, or a mix of emotions from the devastating effects of war? Let’s gather for community support\, guided by a professional coach informed in trauma care. We don’t have to grapple with this by ourselves. This is the time to come together.
URL:https://yiddishlandcalifornia.org/event/yiddishland-stronger-together-support-group-6/
LOCATION:Zoom
END:VEVENT
END:VCALENDAR