BEGIN:VCALENDAR
VERSION:2.0
PRODID:-//Yiddishland California - ECPv6.15.16//NONSGML v1.0//EN
CALSCALE:GREGORIAN
METHOD:PUBLISH
X-ORIGINAL-URL:https://yiddishlandcalifornia.org
X-WR-CALDESC:Events for Yiddishland California
REFRESH-INTERVAL;VALUE=DURATION:PT1H
X-Robots-Tag:noindex
X-PUBLISHED-TTL:PT1H
BEGIN:VTIMEZONE
TZID:America/Los_Angeles
BEGIN:DAYLIGHT
TZOFFSETFROM:-0800
TZOFFSETTO:-0700
TZNAME:PDT
DTSTART:20230312T100000
END:DAYLIGHT
BEGIN:STANDARD
TZOFFSETFROM:-0700
TZOFFSETTO:-0800
TZNAME:PST
DTSTART:20231105T090000
END:STANDARD
BEGIN:DAYLIGHT
TZOFFSETFROM:-0800
TZOFFSETTO:-0700
TZNAME:PDT
DTSTART:20240310T100000
END:DAYLIGHT
BEGIN:STANDARD
TZOFFSETFROM:-0700
TZOFFSETTO:-0800
TZNAME:PST
DTSTART:20241103T090000
END:STANDARD
BEGIN:DAYLIGHT
TZOFFSETFROM:-0800
TZOFFSETTO:-0700
TZNAME:PDT
DTSTART:20250309T100000
END:DAYLIGHT
BEGIN:STANDARD
TZOFFSETFROM:-0700
TZOFFSETTO:-0800
TZNAME:PST
DTSTART:20251102T090000
END:STANDARD
END:VTIMEZONE
BEGIN:VEVENT
DTSTART;TZID=America/Los_Angeles:20240502T120000
DTEND;TZID=America/Los_Angeles:20240522T190000
DTSTAMP:20260424T070001
CREATED:20240502T184834Z
LAST-MODIFIED:20250929T153651Z
UID:15476-1714651200-1716404400@yiddishlandcalifornia.org
SUMMARY:Tour of Yiddishland Exhibit at Hillel
DESCRIPTION:Tours of our Yiddishland exhibit at UC San Diego Hillel are available by appointment until Wednesday\, May 22. Schedule your tour between 12 p.m. and 7 p.m. on all days except Saturdays.
URL:https://yiddishlandcalifornia.org/event/tour-of-yiddishland-exhibit-at-hillel/
LOCATION:UC San Diego Hillel
END:VEVENT
BEGIN:VEVENT
DTSTART;TZID=America/Los_Angeles:20240502T123000
DTEND;TZID=America/Los_Angeles:20240606T133000
DTSTAMP:20260424T070001
CREATED:20240301T205735Z
LAST-MODIFIED:20250929T153726Z
UID:14874-1714653000-1717680600@yiddishlandcalifornia.org
SUMMARY:Conversational Yiddish for Beginners with Avi
DESCRIPTION:Come enjoy some fun conversation in Yiddish\, practicing asking and answering questions and playing games. This is a no-pressure\, easygoing class. The class is “drop-in” style\, so feel free to attend all six sessions or as many as you wish. Everything will be presented in Yiddish with transliteration\, as well as in English. There is no homework\, but optional review materials will be sent out after each class. Sessions will be recorded upon request.
URL:https://yiddishlandcalifornia.org/event/conversational-yiddish-for-beginners-with-avi-6/
LOCATION:Zoom
END:VEVENT
BEGIN:VEVENT
DTSTART;TZID=America/Los_Angeles:20240522T183000
DTEND;TZID=America/Los_Angeles:20240522T203000
DTSTAMP:20260424T070001
CREATED:20240502T014130Z
LAST-MODIFIED:20250929T153823Z
UID:15460-1716402600-1716409800@yiddishlandcalifornia.org
SUMMARY:The City without Jews (Die Stadt ohne Juden)
DESCRIPTION:Yiddishland and The House of Israel are honored to host a screening of the silent film “The City without Jews. The film is based on a bestselling homonymous dystopian novel by Hugo Bettauer\, which portrays the fictional Austrian city of “Utopia” (a thinly-disguised stand-in for Vienna)\, which passed an antisemitic law\, forcing all Jews to leave the country. Although at first the decision was welcomed and met with celebration\, as time went by\, Utopia’s citizens faced an ongoing economic impoverishment and cultural decline that forced them to reconsider their decision and wonder whether to invite the Jews back. Though darkly comedic in tone and stylistically influenced by German Expressionism\, the film nonetheless contains ominous and eerily realistic sequences\, such as shots of freight trains transporting Jews out of the city. It is considered to be one of the few surviving Austrian expressionist films\, being then the subject of research and interest both in Austria and around the world. We will have the unique opportunity to enjoy live original music by world-renowned Klezmer violinist Alicia Svigals and silent film pianist Donald Sosin.
URL:https://yiddishlandcalifornia.org/event/the-city-without-jews-die-stadt-ohne-juden/
LOCATION:House of Pacific Relations – Hall of Nations 2191 Pan American W Rd\, San Diego\, CA 92101 and on Zoom
END:VEVENT
END:VCALENDAR