BEGIN:VCALENDAR
VERSION:2.0
PRODID:-//Yiddishland California - ECPv6.15.16//NONSGML v1.0//EN
CALSCALE:GREGORIAN
METHOD:PUBLISH
X-ORIGINAL-URL:https://yiddishlandcalifornia.org
X-WR-CALDESC:Events for Yiddishland California
REFRESH-INTERVAL;VALUE=DURATION:PT1H
X-Robots-Tag:noindex
X-PUBLISHED-TTL:PT1H
BEGIN:VTIMEZONE
TZID:America/Los_Angeles
BEGIN:DAYLIGHT
TZOFFSETFROM:-0800
TZOFFSETTO:-0700
TZNAME:PDT
DTSTART:20230312T100000
END:DAYLIGHT
BEGIN:STANDARD
TZOFFSETFROM:-0700
TZOFFSETTO:-0800
TZNAME:PST
DTSTART:20231105T090000
END:STANDARD
BEGIN:DAYLIGHT
TZOFFSETFROM:-0800
TZOFFSETTO:-0700
TZNAME:PDT
DTSTART:20240310T100000
END:DAYLIGHT
BEGIN:STANDARD
TZOFFSETFROM:-0700
TZOFFSETTO:-0800
TZNAME:PST
DTSTART:20241103T090000
END:STANDARD
BEGIN:DAYLIGHT
TZOFFSETFROM:-0800
TZOFFSETTO:-0700
TZNAME:PDT
DTSTART:20250309T100000
END:DAYLIGHT
BEGIN:STANDARD
TZOFFSETFROM:-0700
TZOFFSETTO:-0800
TZNAME:PST
DTSTART:20251102T090000
END:STANDARD
END:VTIMEZONE
BEGIN:VEVENT
DTSTART;TZID=America/Los_Angeles:20240628T123000
DTEND;TZID=America/Los_Angeles:20240719T133000
DTSTAMP:20260421T195022
CREATED:20240626T200449Z
LAST-MODIFIED:20250929T155058Z
UID:16699-1719577800-1721395800@yiddishlandcalifornia.org
SUMMARY:Conversational Yiddish for Beginners with Avi
DESCRIPTION:Conversational Yiddish for Beginners with Avi \nCome enjoy some fun conversation in Yiddish\, practicing asking and answering questions and playing games. This is a no-pressure\, easygoing class. The class is “drop-in” style\, so feel free to attend all six sessions or as many as you wish. Everything will be presented in Yiddish with transliteration\, as well as in English. There is no homework\, but optional review materials will be sent out after each class. Sessions will be recorded upon request. \n\n\n\n\nWhen: Fridays\, beginning on June 14\, ending on July 19\, 12:30 – 1.30 p.m. PT (2:30 – 3:30 p.m. CT\, 3:30 – 4:30 p.m. ET)\, if needed dates and times can be adjusted to student’s availability. \nWhere: On Zoom \nCost : \nEarly Bird : $150 for a 6 session package (available until Friday June 7) \nRegular Admission: $200 for a 6 session package \nIndividual Session Early Bird: $30 (available until Friday June 7) \nIndividual Session Regular: $35
URL:https://yiddishlandcalifornia.org/event/conversational-yiddish-for-beginners-with-avi-7/
LOCATION:Zoom
ORGANIZER;CN="Yiddishland California":MAILTO:info@yiddishlandcalifornia.org
END:VEVENT
END:VCALENDAR