BEGIN:VCALENDAR
VERSION:2.0
PRODID:-//Yiddishland California - ECPv6.15.16//NONSGML v1.0//EN
CALSCALE:GREGORIAN
METHOD:PUBLISH
X-ORIGINAL-URL:https://yiddishlandcalifornia.org
X-WR-CALDESC:Events for Yiddishland California
REFRESH-INTERVAL;VALUE=DURATION:PT1H
X-Robots-Tag:noindex
X-PUBLISHED-TTL:PT1H
BEGIN:VTIMEZONE
TZID:America/Los_Angeles
BEGIN:DAYLIGHT
TZOFFSETFROM:-0800
TZOFFSETTO:-0700
TZNAME:PDT
DTSTART:20230312T100000
END:DAYLIGHT
BEGIN:STANDARD
TZOFFSETFROM:-0700
TZOFFSETTO:-0800
TZNAME:PST
DTSTART:20231105T090000
END:STANDARD
BEGIN:DAYLIGHT
TZOFFSETFROM:-0800
TZOFFSETTO:-0700
TZNAME:PDT
DTSTART:20240310T100000
END:DAYLIGHT
BEGIN:STANDARD
TZOFFSETFROM:-0700
TZOFFSETTO:-0800
TZNAME:PST
DTSTART:20241103T090000
END:STANDARD
BEGIN:DAYLIGHT
TZOFFSETFROM:-0800
TZOFFSETTO:-0700
TZNAME:PDT
DTSTART:20250309T100000
END:DAYLIGHT
BEGIN:STANDARD
TZOFFSETFROM:-0700
TZOFFSETTO:-0800
TZNAME:PST
DTSTART:20251102T090000
END:STANDARD
END:VTIMEZONE
BEGIN:VEVENT
DTSTART;TZID=America/Los_Angeles:20241027T080000
DTEND;TZID=America/Los_Angeles:20241027T090000
DTSTAMP:20260421T121607
CREATED:20241005T184649Z
LAST-MODIFIED:20250929T153027Z
UID:24890-1730016000-1730019600@yiddishlandcalifornia.org
SUMMARY:Yoga Classes
DESCRIPTION:Balance Yoga in Yiddish\nIn this yoga class we will balance your mind and body to maintain your mental and physical fitness and to feel happy. The slow and gentle nature of this class is perfect for beginners and is also great for other students who can sink deeper into their practice. The language of instruction is Yiddish with English translation. \nWhen: Sunday\, October 27\, 8:00 – 9:00 a.m. PT ( 10:00 – 11:00 a.m. CT\, 11:00 – 12:00 p.m. ET\, 4:00 – 5:00 p.m. in the UK\, 5:00 – 6:00 p.m. in Central Europe). \nWhere: on Zoom \nEarly bird: (if registered before Sunday\, October 13) \nRegular admission: $25 \nYoga for Gratitude in Yiddish\nIn this yoga class instructed in Yiddish with English translation\, we will practice yoga and mindfulness that focuses on gratitude. Gratitude and yoga help detoxify the mind\, body and connect to a larger reason for being. The slow and gentle nature of this class is perfect for beginners and is also great for other students who can sink deeper into their practice.  \nWhen: Sunday\, November 24\, 8:00 – 9:00 a.m. PT ( 10:00 – 11:00 a.m. CT\, 11:00 – 12:00 p.m. ET\, 4:00 – 5:00 p.m. in the UK\, 5:00 – 6:00 p.m. in Central Europe). \nWhere: on Zoom \nCost: \nEarly bird: $18 (if registered before Sunday\, November 10) \nRegular admission: $25 \nNew Year Intentions with Yoga in Yiddish\nSet some new intentions for 2023 in this yoga class. Join in to let go of all of the ups and downs of 2022 and step into the New Year with a focused\, clear\, determined and hopeful version of yourself. The slow and gentle nature of this class is perfect for beginners and is also great for other students who can sink deeper into their practice. The language of instruction is Yiddish with English translation. \nWhen: Sunday\, December 22\, 8:00 – 9:00 a.m. PT ( 10:00 – 11:00 a.m. CT\, 11:00 – 12:00 p.m. ET\, 4:00 – 5:00 p.m. in the UK\, 5:00 – 6:00 p.m. in Central Europe). \nWhere: on Zoom \nCost: \nEarly bird: $18 (if registered before Sunday\, December 8) \nRegular admission: $25 \n\nInstructor: Tetyana Yakovleva \nShe studied Comparative Literature\, Classical\, Slavic\, Jewish\, and Media Studies at the universities of Kharkiv\, Regensburg\, Bari\, and San Diego. Tanya received her PhD in Slavic and Jewish Studies from the University of Regensburg in 2019 and since then she has been teaching for YAAANA. Tanya is a registered yoga teacher (RYT 200) and she sees her mission in bringing joy and equilibrium to people through yoga and Yiddish.
URL:https://yiddishlandcalifornia.org/event/balance-yoga-in-yiddish/
LOCATION:Zoom
ATTACH;FMTTYPE=image/jpeg:https://yiddishlandcalifornia.org/wp-content/uploads/2024/10/cf1a5809-dd5e-4468-9f2c-91529cb6a503.jpeg
ORGANIZER;CN="Yiddishland California":MAILTO:info@yiddishlandcalifornia.org
END:VEVENT
BEGIN:VEVENT
DTSTART;TZID=America/Los_Angeles:20241027T110000
DTEND;TZID=America/Los_Angeles:20241027T120000
DTSTAMP:20260421T121607
CREATED:20240925T233333Z
LAST-MODIFIED:20250929T153032Z
UID:24704-1730026800-1730030400@yiddishlandcalifornia.org
SUMMARY:Rembrandt and the Jews: An Interactive Exploration with Jennifer Stern
DESCRIPTION:Rembrandt and the Jews: An Interactive Exploration \nRembrandt van Rijn (1606-1669) was one of a tiny handful of artists of the pre-modern era who depicted contemporary Jews. Why was he so interested in Amsterdam’s Sephardic Jewish community? What attitudes do his images reveal? Art historian Jennifer Stern will present selected paintings and etchings to suggest answers to these questions in view of Rembrandt’s life and the history of Amsterdam’s Jewish community. Jennifer will also discuss how Jews (and non-Jews) have reacted to Rembrandt’s Jewish imagery over the centuries. Participants are encouraged to ask questions in the Q&A session in the last part of the program. \nWhen: Sunday\, October 27\, 11 a.m. – 12 p.m. PT ( 1:00 – 2:00 p.m. CT\, 2:00 – 3:00 p.m. ET\, 7:00 – 8:00 p.m. in the UK\, 9:00 – 10:00 p.m. in Central Europe). \nWhere: online via Zoom \nCost: \nEarly bird: $18 (if registered before Sunday\, October 13) \nRegular admission: $25
URL:https://yiddishlandcalifornia.org/event/rembrandt-and-the-jews-an-interactive-exploration-with-jennifer-stern/
LOCATION:Zoom
ATTACH;FMTTYPE=image/jpeg:https://yiddishlandcalifornia.org/wp-content/uploads/2024/08/WhatsApp-Image-2024-08-14-at-5.48.55-PM-e1729717664602.jpeg
ORGANIZER;CN="Yiddishland California":MAILTO:info@yiddishlandcalifornia.org
END:VEVENT
END:VCALENDAR