BEGIN:VCALENDAR
VERSION:2.0
PRODID:-//Yiddishland California - ECPv6.15.16//NONSGML v1.0//EN
CALSCALE:GREGORIAN
METHOD:PUBLISH
X-ORIGINAL-URL:https://yiddishlandcalifornia.org
X-WR-CALDESC:Events for Yiddishland California
REFRESH-INTERVAL;VALUE=DURATION:PT1H
X-Robots-Tag:noindex
X-PUBLISHED-TTL:PT1H
BEGIN:VTIMEZONE
TZID:America/Los_Angeles
BEGIN:DAYLIGHT
TZOFFSETFROM:-0800
TZOFFSETTO:-0700
TZNAME:PDT
DTSTART:20230312T100000
END:DAYLIGHT
BEGIN:STANDARD
TZOFFSETFROM:-0700
TZOFFSETTO:-0800
TZNAME:PST
DTSTART:20231105T090000
END:STANDARD
BEGIN:DAYLIGHT
TZOFFSETFROM:-0800
TZOFFSETTO:-0700
TZNAME:PDT
DTSTART:20240310T100000
END:DAYLIGHT
BEGIN:STANDARD
TZOFFSETFROM:-0700
TZOFFSETTO:-0800
TZNAME:PST
DTSTART:20241103T090000
END:STANDARD
BEGIN:DAYLIGHT
TZOFFSETFROM:-0800
TZOFFSETTO:-0700
TZNAME:PDT
DTSTART:20250309T100000
END:DAYLIGHT
BEGIN:STANDARD
TZOFFSETFROM:-0700
TZOFFSETTO:-0800
TZNAME:PST
DTSTART:20251102T090000
END:STANDARD
END:VTIMEZONE
BEGIN:VEVENT
DTSTART;TZID=America/Los_Angeles:20241029T100000
DTEND;TZID=America/Los_Angeles:20241203T110000
DTSTAMP:20260421T103121
CREATED:20240917T164556Z
LAST-MODIFIED:20250929T153113Z
UID:24358-1730196000-1733223600@yiddishlandcalifornia.org
SUMMARY:Ladino Classes
DESCRIPTION:Are you passionate about Jewish languages and cultures? Dive into the rich world of the Sephardic Jewish tradition through the Ladino language!\nOur Ladino teacher is dressed with a green sleeve\, promoting her new classes.\nLadino en poesía\, poesía en Ladino/Ladino in Poetry\, Poetry in Ladino\nOur new Ladino course is your gateway to exploring this beautiful\, historic language while immersing yourself in the poetic expressions of Sephardic life. Build your Ladino vocabulary and grammar skills\, journey through the captivating world of Ladino poetry\, discover the deep cultural and historical context behind each poem\, and develop the specialized skill of reading in Hebrew Rashi script. \nWhether you have a basic command of Ladino or a background in Modern Spanish\, this course is designed to enrich your knowledge and appreciation of this fascinating language and its poetic traditions. \nTuesdays\, October 29th – December 3rd \n10-11 a.m. PT (12-1 p.m. CT\, 1-2 p.m. ET\, 6-7 p.m. in the UK\, 7-8 p.m. in Central Europe\, 8-9 p.m. in Israel). \nOnline via Zoom \n\nTo register: https://yiddishlandcalifornia.org/ladino-judeo-spanish/
URL:https://yiddishlandcalifornia.org/event/ladino-classes/
LOCATION:Zoom
ATTACH;FMTTYPE=image/jpeg:https://yiddishlandcalifornia.org/wp-content/uploads/2024/09/ladino-classes.jpg
ORGANIZER;CN="Yiddishland California":MAILTO:info@yiddishlandcalifornia.org
END:VEVENT
END:VCALENDAR