BEGIN:VCALENDAR
VERSION:2.0
PRODID:-//Yiddishland California - ECPv6.15.16//NONSGML v1.0//EN
CALSCALE:GREGORIAN
METHOD:PUBLISH
X-ORIGINAL-URL:https://yiddishlandcalifornia.org
X-WR-CALDESC:Events for Yiddishland California
REFRESH-INTERVAL;VALUE=DURATION:PT1H
X-Robots-Tag:noindex
X-PUBLISHED-TTL:PT1H
BEGIN:VTIMEZONE
TZID:America/Los_Angeles
BEGIN:DAYLIGHT
TZOFFSETFROM:-0800
TZOFFSETTO:-0700
TZNAME:PDT
DTSTART:20240310T100000
END:DAYLIGHT
BEGIN:STANDARD
TZOFFSETFROM:-0700
TZOFFSETTO:-0800
TZNAME:PST
DTSTART:20241103T090000
END:STANDARD
BEGIN:DAYLIGHT
TZOFFSETFROM:-0800
TZOFFSETTO:-0700
TZNAME:PDT
DTSTART:20250309T100000
END:DAYLIGHT
BEGIN:STANDARD
TZOFFSETFROM:-0700
TZOFFSETTO:-0800
TZNAME:PST
DTSTART:20251102T090000
END:STANDARD
BEGIN:DAYLIGHT
TZOFFSETFROM:-0800
TZOFFSETTO:-0700
TZNAME:PDT
DTSTART:20260308T100000
END:DAYLIGHT
BEGIN:STANDARD
TZOFFSETFROM:-0700
TZOFFSETTO:-0800
TZNAME:PST
DTSTART:20261101T090000
END:STANDARD
END:VTIMEZONE
BEGIN:VEVENT
DTSTART;TZID=America/Los_Angeles:20250717T100000
DTEND;TZID=America/Los_Angeles:20251012T110000
DTSTAMP:20260421T071558
CREATED:20251001T194347Z
LAST-MODIFIED:20251007T200504Z
UID:34837-1752746400-1760266800@yiddishlandcalifornia.org
SUMMARY:“Serkele”: A Peek into the World of 1820s Polish Jewry
DESCRIPTION:Considered a pioneering work and a classic of Yiddish theater\, this satirical play was written by the talented Dr Ettinger in his twenties\, in 1820s.\n\n\n\nIt is almost a miracle that a decent copy of the text survived\, and we are very lucky to have it — because it preserved for posterity a bright palette of everyday Polish Yiddish of the early 19th century. Carefully exploring and savoring every phrase and sentence of this important oeuvre will also help us get a better feel of life and mentality of the “hostages of the Pale” of that period.\nThis offering is suitable for the intermediate speakers of Yiddish. \nDays and times will be adjusted to accommodate the majority of interested. \nWhen: Sundays\, July 27 – October 12  : 10 – 11 a.m. PT / 12 – 1 p.m. CT / 1 – 2 p.m. ET / 6 – 7 p.m. UK / 7 – 8 p.m. Central Europe \nWhere: Online via Zoom \nCost: $160 ( 12 Classes ) \nLed by: David Shafir \nDavid Shafir is a life-long student of Yiddish. Having spent many years among the native speakers of Yiddish in Canada and USA has helped him a lot in better understanding the language and its culture. He loves collaborating on new Yiddish-focused projects.
URL:https://yiddishlandcalifornia.org/event/34837/
LOCATION:Zoom
ATTACH;FMTTYPE=image/jpeg:https://yiddishlandcalifornia.org/wp-content/uploads/2025/05/Serkele-poster.jpg
ORGANIZER;CN="The Yiddish Arts and Academics Association of North America":MAILTO:info@yaaana.org
END:VEVENT
BEGIN:VEVENT
DTSTART;TZID=America/Los_Angeles:20251005T110000
DTEND;TZID=America/Los_Angeles:20251005T120000
DTSTAMP:20260421T071558
CREATED:20250915T164917Z
LAST-MODIFIED:20251001T200611Z
UID:34082-1759662000-1759665600@yiddishlandcalifornia.org
SUMMARY:Rembrandt and the Jews: An Interactive Exploration
DESCRIPTION:Rembrandt van Rijn (1606-1669) was one of a tiny handful of artists of the pre-modern era who depicted contemporary Jews. Why was he so interested in Amsterdam’s Sephardic and Ashkenazi Jewish communities? What attitudes do his images reveal? Art historian Jennifer Stern will present selected paintings and etchings to suggest answers to these questions in view of Rembrandt’s life and the history of Amsterdam’s Jewish community. Jennifer will also discuss how Jews (and non-Jews) have reacted to Rembrandt’s Jewish imagery over the centuries. Participants are encouraged to ask questions in the Q&A session in the last part of the program. \nWhen: Sunday\, October 5\, 11 a.m. – 12 p.m. PT ( 1:00 – 2:00 p.m. CT\, 2:00 – 3:00 p.m. ET\, 7:00 – 8:00 p.m. in the UK\, 9:00 – 10:00 p.m. in Central Europe). \nWhere: on Zoom \nCost: \nEarly bird: $18 (if registered before Saturday\, September 20\, 2025) \nRegular admission: $25 \nInstructor: Jennifer Stern \nJennifer Stern is an art historian and Yiddish enthusiast. She began studying Yiddish in 2018. Her articles about Jewish art and life have been published in The Forward and In Geveb. Her original Yiddish poetry has been published in Grine Medine and Afn Shvel. She loves sharing her passion for Yiddish and the beauties of Jewish culture.
URL:https://yiddishlandcalifornia.org/event/rembrandt-and-the-jews-an-interactive-exploration/
LOCATION:Zoom
ATTACH;FMTTYPE=image/jpeg:https://yiddishlandcalifornia.org/wp-content/uploads/2025/07/Jennifer-Stern-and-Rembrandt-calendar-page.jpg
ORGANIZER;CN="The Yiddish Arts and Academics Association of North America":MAILTO:info@yaaana.org
END:VEVENT
END:VCALENDAR