BEGIN:VCALENDAR
VERSION:2.0
PRODID:-//Yiddishland California - ECPv6.15.16//NONSGML v1.0//EN
CALSCALE:GREGORIAN
METHOD:PUBLISH
X-ORIGINAL-URL:https://yiddishlandcalifornia.org
X-WR-CALDESC:Events for Yiddishland California
REFRESH-INTERVAL;VALUE=DURATION:PT1H
X-Robots-Tag:noindex
X-PUBLISHED-TTL:PT1H
BEGIN:VTIMEZONE
TZID:America/Los_Angeles
BEGIN:DAYLIGHT
TZOFFSETFROM:-0800
TZOFFSETTO:-0700
TZNAME:PDT
DTSTART:20240310T100000
END:DAYLIGHT
BEGIN:STANDARD
TZOFFSETFROM:-0700
TZOFFSETTO:-0800
TZNAME:PST
DTSTART:20241103T090000
END:STANDARD
BEGIN:DAYLIGHT
TZOFFSETFROM:-0800
TZOFFSETTO:-0700
TZNAME:PDT
DTSTART:20250309T100000
END:DAYLIGHT
BEGIN:STANDARD
TZOFFSETFROM:-0700
TZOFFSETTO:-0800
TZNAME:PST
DTSTART:20251102T090000
END:STANDARD
BEGIN:DAYLIGHT
TZOFFSETFROM:-0800
TZOFFSETTO:-0700
TZNAME:PDT
DTSTART:20260308T100000
END:DAYLIGHT
BEGIN:STANDARD
TZOFFSETFROM:-0700
TZOFFSETTO:-0800
TZNAME:PST
DTSTART:20261101T090000
END:STANDARD
END:VTIMEZONE
BEGIN:VEVENT
DTSTART;TZID=America/Los_Angeles:20251124T100000
DTEND;TZID=America/Los_Angeles:20251124T110000
DTSTAMP:20260421T052600
CREATED:20251028T211205Z
LAST-MODIFIED:20251121T002007Z
UID:35876-1763978400-1763982000@yiddishlandcalifornia.org
SUMMARY:New Course of Judeo-Spanish (Ladino) for Beginners: ¡Buyrun al Ladino!
DESCRIPTION:Have you ever wanted to explore Sephardic heritage\, learn the unique language of the Spanish Jews\, or simply try something new and enriching? Join our Judeo-Spanish (Ladino) Course for Beginners! \nWhat to Expect:✔ Learn to speak\, read\, and understand basic Judeo-Spanish (Ladino)✔ Read Ladino in both Latin and (a little) Rashi script✔ Discover Sephardic culture through proverbs\, songs\, and traditions✔ Study at a comfortable pace – no prior knowledge required! \nWhether you’re a student\, a language lover\, or looking to reconnect with your family roots – this course is for you. \nWhen: Mondays\, October 20 – November 24\, 10.00-11.00 a.m. PT (12:00-1:00 p.m. CT\, 1:00-2:00 p.m. ET\, 6:00-7:00 p.m. in the UK\, 7:00-8:00 p.m. in CET) \nCosts: \nEarly bird (if registered before October 6): 6 classes for $250 \nRegular Registration: 6 classes for $300 \nTeacher: Agnieszka August-Zarębska \nShe is an assistant professor in the Taube Department of Jewish Studies at the University of Wrocław\, Poland. She has a degree in Spanish Studies and her current research interests include contemporary Ladino poetry\, contemporary literary translations into Ladino and Sephardic children’s literature. She also worked on critical editions of the early 20th century Judeo-Spanish literature.
URL:https://yiddishlandcalifornia.org/event/new-course-of-judeo-spanish-ladino-for-beginners-buyrun-al-ladino-4/
LOCATION:Zoom
ATTACH;FMTTYPE=image/png:https://yiddishlandcalifornia.org/wp-content/uploads/2025/09/Screenshot-2025-09-29-225918-1.png
ORGANIZER;CN="The Yiddish Arts and Academics Association of North America":MAILTO:info@yaaana.org
END:VEVENT
END:VCALENDAR