BEGIN:VCALENDAR
VERSION:2.0
PRODID:-//Yiddishland California - ECPv6.15.16//NONSGML v1.0//EN
CALSCALE:GREGORIAN
METHOD:PUBLISH
X-ORIGINAL-URL:https://yiddishlandcalifornia.org
X-WR-CALDESC:Events for Yiddishland California
REFRESH-INTERVAL;VALUE=DURATION:PT1H
X-Robots-Tag:noindex
X-PUBLISHED-TTL:PT1H
BEGIN:VTIMEZONE
TZID:America/Los_Angeles
BEGIN:DAYLIGHT
TZOFFSETFROM:-0800
TZOFFSETTO:-0700
TZNAME:PDT
DTSTART:20250309T100000
END:DAYLIGHT
BEGIN:STANDARD
TZOFFSETFROM:-0700
TZOFFSETTO:-0800
TZNAME:PST
DTSTART:20251102T090000
END:STANDARD
BEGIN:DAYLIGHT
TZOFFSETFROM:-0800
TZOFFSETTO:-0700
TZNAME:PDT
DTSTART:20260308T100000
END:DAYLIGHT
BEGIN:STANDARD
TZOFFSETFROM:-0700
TZOFFSETTO:-0800
TZNAME:PST
DTSTART:20261101T090000
END:STANDARD
BEGIN:DAYLIGHT
TZOFFSETFROM:-0800
TZOFFSETTO:-0700
TZNAME:PDT
DTSTART:20270314T100000
END:DAYLIGHT
BEGIN:STANDARD
TZOFFSETFROM:-0700
TZOFFSETTO:-0800
TZNAME:PST
DTSTART:20271107T090000
END:STANDARD
END:VTIMEZONE
BEGIN:VEVENT
DTSTART;VALUE=DATE:20260212
DTEND;VALUE=DATE:20260213
DTSTAMP:20260421T003340
CREATED:20260119T041803Z
LAST-MODIFIED:20260119T041803Z
UID:38714-1770854400-1770940799@yiddishlandcalifornia.org
SUMMARY:Visit Yiddishland La Paz!
DESCRIPTION:Visit Yiddishland La Paz!\n\n\n\n\n\n\nBy Yiddish Arts and Academics Assn. of N. America\nFollow\n\n\n\n\n\n\n\nLocation TBD\nMultiple dates\n\n\n\n\n\n\n\n\n\nOverview\n\n\n\n\n\nVisit Yiddishland’s new cultural center in La Paz\, Mexico!\n\n\n\nYiddishland is a nonprofit organization whose mission is to expand awareness of the beauty and joy of Yiddishkeit and to preserve and advance the Yiddish language and culture in the United States\, Mexico and beyond. Visits of Yiddishland La Paz are available by appointment. Please feel free to book a tour using the form below. We ask visitors for a $5 donation\, which helps sustain the center. Address will be provided upon RSVP.
URL:https://yiddishlandcalifornia.org/event/visit-yiddishland-la-paz-25/
ATTACH;FMTTYPE=image/jpeg:https://yiddishlandcalifornia.org/wp-content/uploads/2025/12/https___cdn.evbuc_.com_images_1173503374_234337633711_1_original-3.jpg
END:VEVENT
BEGIN:VEVENT
DTSTART;TZID=America/Los_Angeles:20260212T120000
DTEND;TZID=America/Los_Angeles:20260212T130000
DTSTAMP:20260421T003340
CREATED:20260126T202749Z
LAST-MODIFIED:20260126T202749Z
UID:38958-1770897600-1770901200@yiddishlandcalifornia.org
SUMMARY:HEALING HEARTS:Guided Meditation & Healing
DESCRIPTION:Join Meaghan Fitzsimmons for a simple hour of guided meditation\, self reflection\, and energy healing.\nEmbrace this opportunity to release stress and worry\, create harmony within\, and share compassion and hope. \nWhen: 2nd Thursdays of the month —  November 13\, December 11\, January 8\,February 12 \n12–1 p.m. PT / 2–3 p.m. CT / 3–4 p.m. ET / 9–10 p.m. CET / 10–11 p.m. Time in Israel \n6–7 p.m. PT / 8–9 p.m. CT / 9–10 p.m. ET \nWhere: Online (Zoom or your platform link here) \nCost: Suggested Donation: $5–$36 (sliding scale)Options: $5\, $18\, $36 \nGuide: Meaghan Fitzsimmons \nOur Coach’s Bio: Meaghan Fitzsimmons holds a master’s degree in clinical mental health counseling and currently serves as a professional mental health care and lifestyle coach here in La Jolla Village. Her experience in the international field of disaster trauma and group counseling facilitation allow her to support this local Jewish community to share\, grieve\, and empower each other through these radical times of terrorism\, war\, and social upheaval.
URL:https://yiddishlandcalifornia.org/event/healing-heartsguided-meditation-healing/
LOCATION:Zoom
ATTACH;FMTTYPE=image/png:https://yiddishlandcalifornia.org/wp-content/uploads/2025/10/HealingHeartsWeb.png
ORGANIZER;CN="The Yiddish Arts and Academics Association of North America":MAILTO:info@yaaana.org
END:VEVENT
END:VCALENDAR