BEGIN:VCALENDAR
VERSION:2.0
PRODID:-//Yiddishland California - ECPv6.15.16//NONSGML v1.0//EN
CALSCALE:GREGORIAN
METHOD:PUBLISH
X-WR-CALNAME:Yiddishland California
X-ORIGINAL-URL:https://yiddishlandcalifornia.org
X-WR-CALDESC:Events for Yiddishland California
REFRESH-INTERVAL;VALUE=DURATION:PT1H
X-Robots-Tag:noindex
X-PUBLISHED-TTL:PT1H
BEGIN:VTIMEZONE
TZID:America/Los_Angeles
BEGIN:DAYLIGHT
TZOFFSETFROM:-0800
TZOFFSETTO:-0700
TZNAME:PDT
DTSTART:20250309T100000
END:DAYLIGHT
BEGIN:STANDARD
TZOFFSETFROM:-0700
TZOFFSETTO:-0800
TZNAME:PST
DTSTART:20251102T090000
END:STANDARD
BEGIN:DAYLIGHT
TZOFFSETFROM:-0800
TZOFFSETTO:-0700
TZNAME:PDT
DTSTART:20260308T100000
END:DAYLIGHT
BEGIN:STANDARD
TZOFFSETFROM:-0700
TZOFFSETTO:-0800
TZNAME:PST
DTSTART:20261101T090000
END:STANDARD
BEGIN:DAYLIGHT
TZOFFSETFROM:-0800
TZOFFSETTO:-0700
TZNAME:PDT
DTSTART:20270314T100000
END:DAYLIGHT
BEGIN:STANDARD
TZOFFSETFROM:-0700
TZOFFSETTO:-0800
TZNAME:PST
DTSTART:20271107T090000
END:STANDARD
END:VTIMEZONE
BEGIN:VTIMEZONE
TZID:America/Mexico_City
BEGIN:STANDARD
TZOFFSETFROM:-0600
TZOFFSETTO:-0600
TZNAME:CST
DTSTART:20250101T000000
END:STANDARD
END:VTIMEZONE
BEGIN:VEVENT
DTSTART;VALUE=DATE:20260214
DTEND;VALUE=DATE:20260215
DTSTAMP:20260421T003231
CREATED:20260119T041939Z
LAST-MODIFIED:20260119T041939Z
UID:38718-1771027200-1771113599@yiddishlandcalifornia.org
SUMMARY:Visit Yiddishland La Paz!
DESCRIPTION:Visit Yiddishland La Paz!\n\n\n\n\n\n\nBy Yiddish Arts and Academics Assn. of N. America\nFollow\n\n\n\n\n\n\n\nLocation TBD\nMultiple dates\n\n\n\n\n\n\n\n\n\nOverview\n\n\n\n\n\nVisit Yiddishland’s new cultural center in La Paz\, Mexico!\n\n\n\nYiddishland is a nonprofit organization whose mission is to expand awareness of the beauty and joy of Yiddishkeit and to preserve and advance the Yiddish language and culture in the United States\, Mexico and beyond. Visits of Yiddishland La Paz are available by appointment. Please feel free to book a tour using the form below. We ask visitors for a $5 donation\, which helps sustain the center. Address will be provided upon RSVP.
URL:https://yiddishlandcalifornia.org/event/visit-yiddishland-la-paz-27/
ATTACH;FMTTYPE=image/jpeg:https://yiddishlandcalifornia.org/wp-content/uploads/2025/12/https___cdn.evbuc_.com_images_1173503374_234337633711_1_original-3.jpg
END:VEVENT
BEGIN:VEVENT
DTSTART;TZID=America/Mexico_City:20260214T190000
DTEND;TZID=America/Mexico_City:20260214T210000
DTSTAMP:20260421T003231
CREATED:20260121T224455Z
LAST-MODIFIED:20260127T230828Z
UID:38870-1771095600-1771102800@yiddishlandcalifornia.org
SUMMARY:Valentine’s Movie Night Under the Palapa
DESCRIPTION:Valentine’s Movie Night Under the Palapa \n\n\n\n\n\n\n\nJoin Yiddishland for “Valentine’s Movie Night Under the Palapa”! The gathering will feature a surprise film\, celebrating Yiddish culture through cinema\, conversation\, and community. The movie will be in English with Spanish subtitles to accommodate English and Spanish speakers. Wine and light snacks will be provided. Come connect with fellow film lovers\, share ideas\, and enjoy a warm Yiddishland atmosphere. \nVolunteers are warmly welcomed and admitted free of charge. \nFeel free to invite friends and family! Singles and couples welcome! \nDoors open 30 minutes before at 6:00 p.m. 150 pesos will be accepted at the door. \nIf you have any questions\, please text or call +1 858-220-2992 or +52 686-863-4764 \nWhen: Saturday\, February 14\, 2026\, 7 p.m. MT \nWhere: In person in La Paz\, Mexico \nIf you have any questions\, please call 858-220-2992 or email jana@yiddishland.ca \nCost: \nEarly bird: $5 (if registered before Thursday\, February 5\, 2026) \nRegular admission: $10 \nÚnete a Yiddishland para la “Noche de Cine de San Valentín bajo la Palapa”. El encuentro contará con una película sorpresa y celebrará la cultura yiddish a través del cine\, la conversación y la comunidad. La película se proyectará en inglés con subtítulos en español para acomodar a hablantes de inglés y español. Se ofrecerán vino y canapés Ven a conectar con otros cinéfilos\, compartir ideas y disfrutar de un cálido ambiente. \nNuestos voluntarios son cordialmente bienvenidos y entran gratis. \n¡Siéntete en confianza de invitar a amigos y familiares! ¡Personas solteras y parejas son bienvenidas! \nLas puertas abren 30 minutos antes\, a las 6:00 p. m. Se aceptarán 150 pesos en la entrada. \nSi tienes alguna pregunta\, por favor envía un mensaje de texto o llama al +1 858-220-2992 o al +52 686-863-4764.
URL:https://yiddishlandcalifornia.org/event/valentines-movie-night-under-the-palapa/
LOCATION:La Paz\, Mexico
ATTACH;FMTTYPE=image/png:https://yiddishlandcalifornia.org/wp-content/uploads/2026/01/Club-de-cine-Yiddishland-scaled.png
ORGANIZER;CN="The Yiddish Arts and Academics Association of North America":MAILTO:info@yaaana.org
END:VEVENT
END:VCALENDAR