BEGIN:VCALENDAR
VERSION:2.0
PRODID:-//Yiddishland California - ECPv6.15.16//NONSGML v1.0//EN
CALSCALE:GREGORIAN
METHOD:PUBLISH
X-WR-CALNAME:Yiddishland California
X-ORIGINAL-URL:https://yiddishlandcalifornia.org
X-WR-CALDESC:Events for Yiddishland California
REFRESH-INTERVAL;VALUE=DURATION:PT1H
X-Robots-Tag:noindex
X-PUBLISHED-TTL:PT1H
BEGIN:VTIMEZONE
TZID:America/Los_Angeles
BEGIN:DAYLIGHT
TZOFFSETFROM:-0800
TZOFFSETTO:-0700
TZNAME:PDT
DTSTART:20250309T100000
END:DAYLIGHT
BEGIN:STANDARD
TZOFFSETFROM:-0700
TZOFFSETTO:-0800
TZNAME:PST
DTSTART:20251102T090000
END:STANDARD
BEGIN:DAYLIGHT
TZOFFSETFROM:-0800
TZOFFSETTO:-0700
TZNAME:PDT
DTSTART:20260308T100000
END:DAYLIGHT
BEGIN:STANDARD
TZOFFSETFROM:-0700
TZOFFSETTO:-0800
TZNAME:PST
DTSTART:20261101T090000
END:STANDARD
BEGIN:DAYLIGHT
TZOFFSETFROM:-0800
TZOFFSETTO:-0700
TZNAME:PDT
DTSTART:20270314T100000
END:DAYLIGHT
BEGIN:STANDARD
TZOFFSETFROM:-0700
TZOFFSETTO:-0800
TZNAME:PST
DTSTART:20271107T090000
END:STANDARD
END:VTIMEZONE
BEGIN:VEVENT
DTSTART;VALUE=DATE:20260215
DTEND;VALUE=DATE:20260216
DTSTAMP:20260421T021254
CREATED:20260119T042056Z
LAST-MODIFIED:20260119T042056Z
UID:38720-1771113600-1771199999@yiddishlandcalifornia.org
SUMMARY:Visit Yiddishland La Paz!
DESCRIPTION:Visit Yiddishland La Paz!\n\n\n\n\n\n\nBy Yiddish Arts and Academics Assn. of N. America\nFollow\n\n\n\n\n\n\n\nLocation TBD\nMultiple dates\n\n\n\n\n\n\n\n\n\nOverview\n\n\n\n\n\nVisit Yiddishland’s new cultural center in La Paz\, Mexico!\n\n\n\nYiddishland is a nonprofit organization whose mission is to expand awareness of the beauty and joy of Yiddishkeit and to preserve and advance the Yiddish language and culture in the United States\, Mexico and beyond. Visits of Yiddishland La Paz are available by appointment. Please feel free to book a tour using the form below. We ask visitors for a $5 donation\, which helps sustain the center. Address will be provided upon RSVP.
URL:https://yiddishlandcalifornia.org/event/visit-yiddishland-la-paz-28/
ATTACH;FMTTYPE=image/jpeg:https://yiddishlandcalifornia.org/wp-content/uploads/2025/12/https___cdn.evbuc_.com_images_1173503374_234337633711_1_original-3.jpg
END:VEVENT
BEGIN:VEVENT
DTSTART;TZID=America/Los_Angeles:20260215T120000
DTEND;TZID=America/Los_Angeles:20260215T130000
DTSTAMP:20260421T021254
CREATED:20260117T041608Z
LAST-MODIFIED:20260117T042935Z
UID:38640-1771156800-1771160400@yiddishlandcalifornia.org
SUMMARY:Reading and Crafting Yiddish Poetry with Osian Evans Sharma
DESCRIPTION:Reading and Crafting Yiddish Poetry with Osian Evans Sharma\n\n\n\n\n\n\n\nJoin us for a creative-critical exploration of Yiddish poetry\, where language\, history and the imagination meet. We will study the works of great poets\, and take inspiration from them to create new works. Our journey will take us through traditional verse as well as avant-garde experimentation\, covering sound poetry\, Oulipo constraints and multilingual wordplay. \nThis course is designed for students who have already studied Yiddish for a term (or equivalent)\, and for speakers who can read and understand basic Yiddish\, but it can be enjoyed by speakers of all levels looking to grow their Yiddish creativity. \nBy the end of the six-week course\, students will have a deeper appreciation for poetic craft in Yiddish\, and develop a poem of their own. All materials will be provided by the instructor. (Transliteration of texts will be available upon request.) \nWhen : Sundays\, January 11 – February 1512–1 p.m. PT / 3–4 p.m. ET / 8–9 p.m. GMT / 9–10 p.m. CET \nWhere: Online via Zoom \nCost: \nEarly Bird: $150 all 6 weeks or $25 for a 60-minute online class (early bird\, if paid before Sunday\, December 28\, 2025) \nStudent Pricing (Upload ID): $150 all 6 weeks or $25 for a 60-minute online class \nRegular Pricing: $180 all 6 weeks or $30 for a 60-minute online class \nOsian (Oshn) Evans Sharma is a Yiddish teacher from the UK. He has studied Yiddish at University College of London\, and courses in Tel Aviv\, Berlin and Paris. He has led Yiddish poetry courses online for Babel’s Blessing Language School and in-person workshops at the Shtetl Berlin Festival\, the Maison de la Culture Yiddish and the Yiddish Sof-Vokh UK\, which he also helps to organize. He teaches at the summer programme ‘Ot Azoy’ and recently completed a pedagogy fellowship at the Yiddish Book Center (Amherst\, MA). \nFrom Verse to Voice: A Workshop in Yiddish Poetry with Osian Evans Sharma \n👉 Discover the beauty and creativity of Yiddish poetry. Together we’ll read great poets\, experiment with sound and wordplay\, and craft poems of our own. No prior experience beyond basic reading is needed – just curiosity and imagination.
URL:https://yiddishlandcalifornia.org/event/reading-and-crafting-yiddish-poetry-with-osian-evans-sharma-2/
LOCATION:Zoom
ATTACH;FMTTYPE=image/png:https://yiddishlandcalifornia.org/wp-content/uploads/2025/09/Untitled-design-6.png
ORGANIZER;CN="The Yiddish Arts and Academics Association of North America":MAILTO:info@yaaana.org
END:VEVENT
BEGIN:VEVENT
DTSTART;TZID=America/Los_Angeles:20260215T180000
DTEND;TZID=America/Los_Angeles:20260215T200000
DTSTAMP:20260421T021254
CREATED:20260121T224045Z
LAST-MODIFIED:20260121T224045Z
UID:38872-1771178400-1771185600@yiddishlandcalifornia.org
SUMMARY:Valentine’s Movie Night at Yiddishland
DESCRIPTION:Valentine’s Movie Night at Yiddishland\n  \n\n\n\n\n\n\n\nJoin us for the very first screening in our new monthly Yiddishland Movie Club series. Each gathering will feature a surprise film\, celebrating Yiddish culture through cinema\, conversation\, and community. You do not have to know Yiddish to attend this event. \nCome connect with fellow film lovers\, share ideas\, and enjoy a warm Yiddishland atmosphere in person or on Zoom. \nPlease note: there will be no payment at the door\, so advance registration is required to reserve your spot. \n*Content advisory: The film we will screen in February is rated R for nudity and sexual content. \nWhen: Sunday\, February 15\, 2026\, 6 p.m. PT / 9 p.m. ET / 8 p.m. CET. (Doors open at 5:30 p.m. PT). \nWhere: A private residential venue on Mt. Soledad in San Diego and on Zoom \nThe exact address will be shared upon RSVP. \nIf you have any questions\, please call 858-220-2992 or email jana@yiddishland.ca \nCost: \nEarly bird (on Zoom and in-person): $5 (if registered before Thursday\, February 5\, 2026) \nRegular admission (on Zoom and in-person): $10
URL:https://yiddishlandcalifornia.org/event/valentines-movie-night-at-yiddishland/
LOCATION:Zoom
ATTACH;FMTTYPE=image/webp:https://yiddishlandcalifornia.org/wp-content/uploads/2026/01/Valentine-Movie-SD.webp
ORGANIZER;CN="The Yiddish Arts and Academics Association of North America":MAILTO:info@yaaana.org
END:VEVENT
END:VCALENDAR