BEGIN:VCALENDAR
VERSION:2.0
PRODID:-//Yiddishland California - ECPv6.15.16//NONSGML v1.0//EN
CALSCALE:GREGORIAN
METHOD:PUBLISH
X-ORIGINAL-URL:https://yiddishlandcalifornia.org
X-WR-CALDESC:Events for Yiddishland California
REFRESH-INTERVAL;VALUE=DURATION:PT1H
X-Robots-Tag:noindex
X-PUBLISHED-TTL:PT1H
BEGIN:VTIMEZONE
TZID:America/Los_Angeles
BEGIN:DAYLIGHT
TZOFFSETFROM:-0800
TZOFFSETTO:-0700
TZNAME:PDT
DTSTART:20250309T100000
END:DAYLIGHT
BEGIN:STANDARD
TZOFFSETFROM:-0700
TZOFFSETTO:-0800
TZNAME:PST
DTSTART:20251102T090000
END:STANDARD
BEGIN:DAYLIGHT
TZOFFSETFROM:-0800
TZOFFSETTO:-0700
TZNAME:PDT
DTSTART:20260308T100000
END:DAYLIGHT
BEGIN:STANDARD
TZOFFSETFROM:-0700
TZOFFSETTO:-0800
TZNAME:PST
DTSTART:20261101T090000
END:STANDARD
BEGIN:DAYLIGHT
TZOFFSETFROM:-0800
TZOFFSETTO:-0700
TZNAME:PDT
DTSTART:20270314T100000
END:DAYLIGHT
BEGIN:STANDARD
TZOFFSETFROM:-0700
TZOFFSETTO:-0800
TZNAME:PST
DTSTART:20271107T090000
END:STANDARD
END:VTIMEZONE
BEGIN:VEVENT
DTSTART;VALUE=DATE:20260301
DTEND;VALUE=DATE:20260302
DTSTAMP:20260420T221921
CREATED:20260119T044025Z
LAST-MODIFIED:20260119T044025Z
UID:38748-1772323200-1772409599@yiddishlandcalifornia.org
SUMMARY:Visit Yiddishland La Paz!
DESCRIPTION:Visit Yiddishland La Paz!\n\n\n\n\n\n\nBy Yiddish Arts and Academics Assn. of N. America\nFollow\n\n\n\n\n\n\n\nLocation TBD\nMultiple dates\n\n\n\n\n\n\n\n\n\nOverview\n\n\n\n\n\nVisit Yiddishland’s new cultural center in La Paz\, Mexico!\n\n\n\nYiddishland is a nonprofit organization whose mission is to expand awareness of the beauty and joy of Yiddishkeit and to preserve and advance the Yiddish language and culture in the United States\, Mexico and beyond. Visits of Yiddishland La Paz are available by appointment. Please feel free to book a tour using the form below. We ask visitors for a $5 donation\, which helps sustain the center. Address will be provided upon RSVP.
URL:https://yiddishlandcalifornia.org/event/visit-yiddishland-la-paz-42/
ATTACH;FMTTYPE=image/jpeg:https://yiddishlandcalifornia.org/wp-content/uploads/2025/12/https___cdn.evbuc_.com_images_1173503374_234337633711_1_original-3.jpg
END:VEVENT
BEGIN:VEVENT
DTSTART;TZID=America/Los_Angeles:20260301T103000
DTEND;TZID=America/Los_Angeles:20260301T113000
DTSTAMP:20260420T221921
CREATED:20251030T161903Z
LAST-MODIFIED:20251121T004820Z
UID:35933-1772361000-1772364600@yiddishlandcalifornia.org
SUMMARY:Yiddish for Absolute Beginners with Osian Evans Sharma
DESCRIPTION:Over the course of eight sessions\, students will begin their journey into Yiddishland\, exploring both the language and get a taste of its rich culture. The course begins with learning to read and write the alef-beys (alphabet). \nFrom there\, students will soon be ready to read selections from Yiddish literature\, sing traditional Yiddish folksongs\, and practice everyday expressions. Students will learn how to introduce themselves\, share their stories\, and describe their personal connections to Yiddish. \nAll learning materials will be provided by the teacher. \nWhen: Sundays\, January 11 – March 1\, 2026. 10:30 a.m. – 11:30 a.m PT / 1:30 p.m. – 2:30 p.m. ET / 12:30 p.m. – 1:30 p.m. CT / 6:30 p.m. – 7:30 p.m. GMT / 7:30 p.m. – 8:30 p.m. in CET. \nWhere: Online via Zoom \nCost:\nEarly Bird: $30 per session\, $220 for 8 classes available until December 26th\, 2025 \nRegular:  $40 per session\, $300 for 8 sessions \nTeacher: Osian (Oshn) Evans Sharma \nHe is a Yiddish teacher from the UK. He has studied Yiddish at University College London\, and courses in Tel Aviv\, Berlin and Paris. He has led Yiddish poetry courses online for Babel’s Blessing Language School and in-person workshops at the Shtetl Berlin Festival\, the Maison de la Culture Yiddish and the Yiddish Sof-Vokh UK\, which he also helps to organise. He teaches at the summer programme ‘Ot Azoy’ and recently completed a pedagogy fellowship at the Yiddish Book Center (Amherst\, MA).
URL:https://yiddishlandcalifornia.org/event/yiddish-for-absolute-beginners-with-osian-evans-sharma-8/
ATTACH;FMTTYPE=image/png:https://yiddishlandcalifornia.org/wp-content/uploads/2025/09/Download-2.png
END:VEVENT
BEGIN:VEVENT
DTSTART;TZID=America/Los_Angeles:20260301T160000
DTEND;TZID=America/Los_Angeles:20260301T170000
DTSTAMP:20260420T221921
CREATED:20260228T044714Z
LAST-MODIFIED:20260228T045932Z
UID:40269-1772380800-1772384400@yiddishlandcalifornia.org
SUMMARY:Costumes and Courage – The Purim Story
DESCRIPTION:A Purim Potluck and Playful Improv Evening in La Paz\, MX \nThe holiday of Purim is almost here! Join us in beautiful La Paz for a joyful\, spirited evening celebrating the story of Esther — a tale of hidden identities\, bold bravery\, and unexpected twists.\n This is a potluck! Please bring a little something to share.\n\nWhen: This Sunday\, March 1\, 5:00 pm MT\n\nWhere: El Centro of La Paz\, address provided upon registration\n\nRSVP: In advance to jana@yiddishland.ca or to +1 858 220 2992 via WhatsApp\n\nSign up sheet for potluck: https://docs.google.com/spreadsheets/d/1FUBREc4mT9LOnK7UTGqG-TeDfDIhweqUpX5sjwarlZM/edit?gid=0#gid=0\n\nCostumes optional. Curiosity required.
URL:https://yiddishlandcalifornia.org/event/costumes-and-courage-the-purim-story/
LOCATION:El Centro of La Paz\, address provided upon registration
ATTACH;FMTTYPE=image/png:https://yiddishlandcalifornia.org/wp-content/uploads/2026/02/Purim-Costume-Party-Final-Landscape.png
END:VEVENT
END:VCALENDAR