BEGIN:VCALENDAR
VERSION:2.0
PRODID:-//Yiddishland California - ECPv6.15.16//NONSGML v1.0//EN
CALSCALE:GREGORIAN
METHOD:PUBLISH
X-WR-CALNAME:Yiddishland California
X-ORIGINAL-URL:https://yiddishlandcalifornia.org
X-WR-CALDESC:Events for Yiddishland California
REFRESH-INTERVAL;VALUE=DURATION:PT1H
X-Robots-Tag:noindex
X-PUBLISHED-TTL:PT1H
BEGIN:VTIMEZONE
TZID:America/Los_Angeles
BEGIN:DAYLIGHT
TZOFFSETFROM:-0800
TZOFFSETTO:-0700
TZNAME:PDT
DTSTART:20250309T100000
END:DAYLIGHT
BEGIN:STANDARD
TZOFFSETFROM:-0700
TZOFFSETTO:-0800
TZNAME:PST
DTSTART:20251102T090000
END:STANDARD
BEGIN:DAYLIGHT
TZOFFSETFROM:-0800
TZOFFSETTO:-0700
TZNAME:PDT
DTSTART:20260308T100000
END:DAYLIGHT
BEGIN:STANDARD
TZOFFSETFROM:-0700
TZOFFSETTO:-0800
TZNAME:PST
DTSTART:20261101T090000
END:STANDARD
BEGIN:DAYLIGHT
TZOFFSETFROM:-0800
TZOFFSETTO:-0700
TZNAME:PDT
DTSTART:20270314T100000
END:DAYLIGHT
BEGIN:STANDARD
TZOFFSETFROM:-0700
TZOFFSETTO:-0800
TZNAME:PST
DTSTART:20271107T090000
END:STANDARD
END:VTIMEZONE
BEGIN:VEVENT
DTSTART;VALUE=DATE:20260306
DTEND;VALUE=DATE:20260307
DTSTAMP:20260420T221551
CREATED:20260119T044546Z
LAST-MODIFIED:20260119T044546Z
UID:38758-1772755200-1772841599@yiddishlandcalifornia.org
SUMMARY:Visit Yiddishland La Paz!
DESCRIPTION:Visit Yiddishland La Paz!\n\n\n\n\n\n\nBy Yiddish Arts and Academics Assn. of N. America\nFollow\n\n\n\n\n\n\n\nLocation TBD\nMultiple dates\n\n\n\n\n\n\n\n\n\nOverview\n\n\n\n\n\nVisit Yiddishland’s new cultural center in La Paz\, Mexico!\n\n\n\nYiddishland is a nonprofit organization whose mission is to expand awareness of the beauty and joy of Yiddishkeit and to preserve and advance the Yiddish language and culture in the United States\, Mexico and beyond. Visits of Yiddishland La Paz are available by appointment. Please feel free to book a tour using the form below. We ask visitors for a $5 donation\, which helps sustain the center. Address will be provided upon RSVP.
URL:https://yiddishlandcalifornia.org/event/visit-yiddishland-la-paz-47/
ATTACH;FMTTYPE=image/jpeg:https://yiddishlandcalifornia.org/wp-content/uploads/2025/12/https___cdn.evbuc_.com_images_1173503374_234337633711_1_original-3.jpg
END:VEVENT
END:VCALENDAR