BEGIN:VCALENDAR
VERSION:2.0
PRODID:-//Yiddishland California - ECPv6.15.16//NONSGML v1.0//EN
CALSCALE:GREGORIAN
METHOD:PUBLISH
X-ORIGINAL-URL:https://yiddishlandcalifornia.org
X-WR-CALDESC:Events for Yiddishland California
REFRESH-INTERVAL;VALUE=DURATION:PT1H
X-Robots-Tag:noindex
X-PUBLISHED-TTL:PT1H
BEGIN:VTIMEZONE
TZID:America/Los_Angeles
BEGIN:DAYLIGHT
TZOFFSETFROM:-0800
TZOFFSETTO:-0700
TZNAME:PDT
DTSTART:20250309T100000
END:DAYLIGHT
BEGIN:STANDARD
TZOFFSETFROM:-0700
TZOFFSETTO:-0800
TZNAME:PST
DTSTART:20251102T090000
END:STANDARD
BEGIN:DAYLIGHT
TZOFFSETFROM:-0800
TZOFFSETTO:-0700
TZNAME:PDT
DTSTART:20260308T100000
END:DAYLIGHT
BEGIN:STANDARD
TZOFFSETFROM:-0700
TZOFFSETTO:-0800
TZNAME:PST
DTSTART:20261101T090000
END:STANDARD
BEGIN:DAYLIGHT
TZOFFSETFROM:-0800
TZOFFSETTO:-0700
TZNAME:PDT
DTSTART:20270314T100000
END:DAYLIGHT
BEGIN:STANDARD
TZOFFSETFROM:-0700
TZOFFSETTO:-0800
TZNAME:PST
DTSTART:20271107T090000
END:STANDARD
END:VTIMEZONE
BEGIN:VEVENT
DTSTART;TZID=America/Los_Angeles:20260602T100000
DTEND;TZID=America/Los_Angeles:20260602T113000
DTSTAMP:20260420T222506
CREATED:20260412T173119Z
LAST-MODIFIED:20260413T232003Z
UID:41236-1780394400-1780399800@yiddishlandcalifornia.org
SUMMARY:Beginner Juedo-Spanish (Beginner Ladino)
DESCRIPTION:Beginner Ladino Course (5 lessons – 1.5 hours per lesson) \nThis course is designed for students who wish to learn Ladino from the very beginning\, whether out of interest in the Sephardi language and culture or because they come from Ladino-speaking Sephardi families but did not have the chance to acquire the language at home. No prior knowledge is required. \nOver ten one-and-a-half hour lessons\, participants will build basic vocabulary\, learn the official Ladino orthography\, and develop essential communication skills through everyday topics and fundamental grammar. The course also includes cultural content such as traditional songs\, Sephardi geography\, and adapted stories of Djohá\, as well as special sessions on Moadim among Sephardic Jews. Students will work with materials from both the Sephardi literary tradition and contemporary Ladino sources. The course concludes with a guided conversation and interactive activities to reinforce language and grammar while exploring Ladino today.  \nWhen:Tuesdays\, June 2 – June 30: 11:00 a.m. – 12:30 p.m. PT / 1:00 – 2:30 p.m. CT / 2:00 – 3:30 p.m. ET \nWhere: Online via Zoom \nCost:\nEarly Bird: 5 classes for $270 available until Tuesday\, June 16th\, 2026 \nRegular: 5 classes for $300 \nRegister for this event \nTeacher: Esther Rute \nEsther Rute holds a BA in Semitic Philology (Complutense U.) and two MA in Jewish History and Spanish Studies from the Hebrew University of Jerusalem (HUJI). She is a certified language teacher (HUJI) and Ladino instructor at the Sephardi Community Council of Jerusalem and the Instituto Cervantes in Tel Aviv. She is also the External Advisor to the National Authority for Ladino (ANL) and Deputy Editor of Aki Yerushalayim. Her main position is Head of the International & Israeli Section at the Guiding Department of Yad Vashem\, Jerusalem.
URL:https://yiddishlandcalifornia.org/event/beginner-juedo-spanish-beginner-ladino/
LOCATION:Zoom
ATTACH;FMTTYPE=image/jpeg:https://yiddishlandcalifornia.org/wp-content/uploads/2026/04/0e677230-e33f-4886-900d-1e739ee7132e.jpg
ORGANIZER;CN="The Yiddish Arts and Academics Association of North America":MAILTO:info@yaaana.org
END:VEVENT
END:VCALENDAR