BEGIN:VCALENDAR
VERSION:2.0
PRODID:-//Yiddishland California - ECPv6.15.16//NONSGML v1.0//EN
CALSCALE:GREGORIAN
METHOD:PUBLISH
X-ORIGINAL-URL:https://yiddishlandcalifornia.org
X-WR-CALDESC:Events for Yiddishland California
REFRESH-INTERVAL;VALUE=DURATION:PT1H
X-Robots-Tag:noindex
X-PUBLISHED-TTL:PT1H
BEGIN:VTIMEZONE
TZID:America/Denver
BEGIN:DAYLIGHT
TZOFFSETFROM:-0700
TZOFFSETTO:-0600
TZNAME:MDT
DTSTART:20250309T090000
END:DAYLIGHT
BEGIN:STANDARD
TZOFFSETFROM:-0600
TZOFFSETTO:-0700
TZNAME:MST
DTSTART:20251102T080000
END:STANDARD
BEGIN:DAYLIGHT
TZOFFSETFROM:-0700
TZOFFSETTO:-0600
TZNAME:MDT
DTSTART:20260308T090000
END:DAYLIGHT
BEGIN:STANDARD
TZOFFSETFROM:-0600
TZOFFSETTO:-0700
TZNAME:MST
DTSTART:20261101T080000
END:STANDARD
BEGIN:DAYLIGHT
TZOFFSETFROM:-0700
TZOFFSETTO:-0600
TZNAME:MDT
DTSTART:20270314T090000
END:DAYLIGHT
BEGIN:STANDARD
TZOFFSETFROM:-0600
TZOFFSETTO:-0700
TZNAME:MST
DTSTART:20271107T080000
END:STANDARD
END:VTIMEZONE
BEGIN:VEVENT
DTSTART;TZID=America/Denver:20260920T110000
DTEND;TZID=America/Denver:20260920T123000
DTSTAMP:20260421T052352
CREATED:20260212T232339Z
LAST-MODIFIED:20260414T141644Z
UID:39615-1789902000-1789907400@yiddishlandcalifornia.org
SUMMARY:Jews and Jazz – a Talk by Yale Strom
DESCRIPTION:This will be a lecture that includes photos and music. \nWhen: Sunday\, September 20\, 2026\, 11:00 a.m.– 12:30 p.m. PT / 1:00–2:30 p.m. CT / 2:00–3:30 p.m. ET \nWhere: Online (Zoom) \nCost: \nEarly bird pricing: $20 per lecture (if registered before September 6\, 2026) \nRegular pricing: $25 per lecture \nRegister for this event \nArtist Name: Yale Strom \nArtist’s Bio: \nYale Strom (violin) is one of the world’s leading ethnographer-artists of klezmer and Romani music and history. With a master’s degree in Yiddish Studies\, he has conducted extensive ethnographic research across Eastern Europe on Jewish and Romani musical culture. \nHis fieldwork shaped the repertoire of his klezmer band Hot Pstromi and informed his work directing 10 award-winning documentary films\, including The Last Klezmer (Oscar short-list). \nStrom has written 15 books and two award-winning audio dramas\, recorded 20 CDs\, and presented numerous photo exhibitions in North America and Europe. His latest documentary\, Recordially Yours: Lou Curtiss (2023)\, explores the life of San Diego audiophile-ethnomusicologist Lou Curtiss; he is currently developing a musical on Marc and Bella Chagall. Strom was Artist-in-Residence in Jewish Studies at San Diego State University (2006–2020). He now teaches in the Music Department and previously taught at New York University. His first historical novel\, The Autobiography of the Offenbacher\, will be published in 2026.
URL:https://yiddishlandcalifornia.org/event/jews-and-jazz-a-talk-by-yale-strom/
LOCATION:Zoom
ATTACH;FMTTYPE=image/jpeg:https://yiddishlandcalifornia.org/wp-content/uploads/2026/02/Yale-Bremen-2025-Yale-Strom-1.jpg
ORGANIZER;CN="The Yiddish Arts and Academics Association of North America":MAILTO:info@yaaana.org
END:VEVENT
END:VCALENDAR