BEGIN:VCALENDAR
VERSION:2.0
PRODID:-//Yiddishland California - ECPv6.15.16//NONSGML v1.0//EN
CALSCALE:GREGORIAN
METHOD:PUBLISH
X-WR-CALNAME:Yiddishland California
X-ORIGINAL-URL:https://yiddishlandcalifornia.org
X-WR-CALDESC:Events for Yiddishland California
REFRESH-INTERVAL;VALUE=DURATION:PT1H
X-Robots-Tag:noindex
X-PUBLISHED-TTL:PT1H
BEGIN:VTIMEZONE
TZID:America/Los_Angeles
BEGIN:DAYLIGHT
TZOFFSETFROM:-0800
TZOFFSETTO:-0700
TZNAME:PDT
DTSTART:20230312T100000
END:DAYLIGHT
BEGIN:STANDARD
TZOFFSETFROM:-0700
TZOFFSETTO:-0800
TZNAME:PST
DTSTART:20231105T090000
END:STANDARD
BEGIN:DAYLIGHT
TZOFFSETFROM:-0800
TZOFFSETTO:-0700
TZNAME:PDT
DTSTART:20240310T100000
END:DAYLIGHT
BEGIN:STANDARD
TZOFFSETFROM:-0700
TZOFFSETTO:-0800
TZNAME:PST
DTSTART:20241103T090000
END:STANDARD
BEGIN:DAYLIGHT
TZOFFSETFROM:-0800
TZOFFSETTO:-0700
TZNAME:PDT
DTSTART:20250309T100000
END:DAYLIGHT
BEGIN:STANDARD
TZOFFSETFROM:-0700
TZOFFSETTO:-0800
TZNAME:PST
DTSTART:20251102T090000
END:STANDARD
END:VTIMEZONE
BEGIN:VEVENT
DTSTART;TZID=America/Los_Angeles:20240202T160000
DTEND;TZID=America/Los_Angeles:20240202T190000
DTSTAMP:20260424T103457
CREATED:20240125T054124Z
LAST-MODIFIED:20240125T054124Z
UID:14451-1706889600-1706900400@yiddishlandcalifornia.org
SUMMARY:First Friday Art Walk February
DESCRIPTION:Now is the perfect time to treat yourself to exclusive savings on original art pieces. Join us for drinks\, snacks and live music. This month’s Art Walk theme will be “love.” Registration for a parking voucher will be sent to guests who register before 10 a.m. on Friday\, February 2.
URL:https://yiddishlandcalifornia.org/event/first-friday-art-walk-february/
LOCATION:Yiddishland California\, 1128 Wall St.\, La Jolla\, CA\, 92037\, United States
END:VEVENT
BEGIN:VEVENT
DTSTART;TZID=America/Los_Angeles:20240206T120000
DTEND;TZID=America/Los_Angeles:20240206T130000
DTSTAMP:20260424T103457
CREATED:20240108T174948Z
LAST-MODIFIED:20240205T183101Z
UID:14026-1707220800-1707224400@yiddishlandcalifornia.org
SUMMARY:Beginners: Judeo-Spanish (Ladino) Letter
DESCRIPTION:During this course\, students will develop the ability to read words\, sentences\, and simple texts in Judeo-Spanish (Ladino) written in the Rashi script\, using the Hebrew alphabet. The Rashi script was the most common writing system used in Sephardic literature for a significant part of its history. The ability to read the Rashi script grants access to literary texts\, newspapers\, and other documents\, contributing to the preservation of the language and culture\, preventing them from extinction.
URL:https://yiddishlandcalifornia.org/event/beginners-judeo-spanish-ladino-letter-5/
END:VEVENT
BEGIN:VEVENT
DTSTART;TZID=America/Los_Angeles:20240207T110000
DTEND;TZID=America/Los_Angeles:20240207T120000
DTSTAMP:20260424T103457
CREATED:20240108T181930Z
LAST-MODIFIED:20240205T183241Z
UID:14040-1707303600-1707307200@yiddishlandcalifornia.org
SUMMARY:Yiddish Shmueskrayz
DESCRIPTION:If you want to practice your Yiddish and have a good time getting to know people\, this is the right course for you. We will speak in mame-loshn about diverse topics. We will have a conversation both as a group and in smaller cohorts according to level. Some of the sessions will be focused on a specific topic. We will also try to solve a couple of riddles and learn some Yiddish expressions and sayings to enrich our Yiddish repertoire. This is a course for upper-intermediate and advanced learners of Yiddish as we will be working according to level.
URL:https://yiddishlandcalifornia.org/event/yiddish-shmueskrayz-7/
END:VEVENT
BEGIN:VEVENT
DTSTART;TZID=America/Los_Angeles:20240207T130000
DTEND;TZID=America/Los_Angeles:20240207T140000
DTSTAMP:20260424T103457
CREATED:20231128T182045Z
LAST-MODIFIED:20240205T183343Z
UID:13533-1707310800-1707314400@yiddishlandcalifornia.org
SUMMARY:Leyenkrayz (Reading Circle) for Intermediate and Advanced Students
DESCRIPTION:This event is one that you won’t forget. Students of intermediate II level will practice reading and translating skills without judgment and comparisons.
URL:https://yiddishlandcalifornia.org/event/leyenkrayz-reading-circle-for-intermediate-and-advanced-students-8/
END:VEVENT
BEGIN:VEVENT
DTSTART;TZID=America/Los_Angeles:20240213T120000
DTEND;TZID=America/Los_Angeles:20240213T130000
DTSTAMP:20260424T103457
CREATED:20240108T175027Z
LAST-MODIFIED:20240205T183513Z
UID:14025-1707825600-1707829200@yiddishlandcalifornia.org
SUMMARY:Beginners: Judeo-Spanish (Ladino) Letter
DESCRIPTION:During this course\, students will develop the ability to read words\, sentences\, and simple texts in Judeo-Spanish (Ladino) written in the Rashi script\, using the Hebrew alphabet. The Rashi script was the most common writing system used in Sephardic literature for a significant part of its history. The ability to read the Rashi script grants access to literary texts\, newspapers\, and other documents\, contributing to the preservation of the language and culture\, preventing them from extinction.
URL:https://yiddishlandcalifornia.org/event/beginners-judeo-spanish-ladino-letter-6/
END:VEVENT
BEGIN:VEVENT
DTSTART;TZID=America/Los_Angeles:20240214T110000
DTEND;TZID=America/Los_Angeles:20240214T120000
DTSTAMP:20260424T103457
CREATED:20240108T182002Z
LAST-MODIFIED:20240205T183546Z
UID:14039-1707908400-1707912000@yiddishlandcalifornia.org
SUMMARY:Yiddish Shmueskrayz
DESCRIPTION:If you want to practice your Yiddish and have a good time getting to know people\, this is the right course for you. We will speak in mame-loshn about diverse topics. We will have a conversation both as a group and in smaller cohorts according to level. Some of the sessions will be focused on a specific topic. We will also try to solve a couple of riddles and learn some Yiddish expressions and sayings to enrich our Yiddish repertoire. This is a course for upper-intermediate and advanced learners of Yiddish as we will be working according to level.
URL:https://yiddishlandcalifornia.org/event/yiddish-shmueskrayz-8/
END:VEVENT
BEGIN:VEVENT
DTSTART;TZID=America/Los_Angeles:20240214T130000
DTEND;TZID=America/Los_Angeles:20240214T140000
DTSTAMP:20260424T103457
CREATED:20231128T181854Z
LAST-MODIFIED:20240205T183627Z
UID:13531-1707915600-1707919200@yiddishlandcalifornia.org
SUMMARY:Leyenkrayz (Reading Circle) for Intermediate and Advanced Students
DESCRIPTION:This event is one that you won’t forget. Students of intermediate II level will practice reading and translating skills without judgment and comparisons.
URL:https://yiddishlandcalifornia.org/event/leyenkrayz-reading-circle-for-intermediate-and-advanced-students-7/
END:VEVENT
BEGIN:VEVENT
DTSTART;TZID=America/Los_Angeles:20240214T183000
DTEND;TZID=America/Los_Angeles:20240214T200000
DTSTAMP:20260424T103457
CREATED:20240202T082522Z
LAST-MODIFIED:20240205T183807Z
UID:14526-1707935400-1707940800@yiddishlandcalifornia.org
SUMMARY:Kafkas-last-love
DESCRIPTION:Join us for our unique Yiddishized Valentine’s Day event welcoming couples and singles. World-renowned local author Kathi Diamant will present her book\, Kafka’s Last Love\, winner of many accolades\, including receiving the Theodor Geisel Award and recognition as one of the “Best Biographies of the Year” by The Sunday Herald. The book discusses Franz Kafka’s fascination with Yiddish culture and the Yiddishist Dora Diamant\, as well as Dora’s efforts for Yiddish-culture revival. Nosh and drinks will be served. The event will also be broadcast on Zoom.
URL:https://yiddishlandcalifornia.org/event/kafkas-last-love/
LOCATION:1128 Wall St\, La Jolla CA\, 92037 US\, 1128 Wall St\, La Jolla\, CA\, 92037\, United States
ORGANIZER;CN="Yiddishland California":MAILTO:info@yiddishlandcalifornia.org
END:VEVENT
BEGIN:VEVENT
DTSTART;TZID=America/Los_Angeles:20240221T110000
DTEND;TZID=America/Los_Angeles:20240221T120000
DTSTAMP:20260424T103457
CREATED:20240108T182104Z
LAST-MODIFIED:20240205T184046Z
UID:14038-1708513200-1708516800@yiddishlandcalifornia.org
SUMMARY:Yiddish Shmueskrayz
DESCRIPTION:If you want to practice your Yiddish and have a good time getting to know people\, this is the right course for you. We will speak in mame-loshn about diverse topics. We will have a conversation both as a group and in smaller cohorts according to level. Some of the sessions will be focused on a specific topic. We will also try to solve a couple of riddles and learn some Yiddish expressions and sayings to enrich our Yiddish repertoire. This is a course for upper-intermediate and advanced learners of Yiddish as we will be working according to level. \nWhere:  Online via Zoom
URL:https://yiddishlandcalifornia.org/event/yiddish-shmueskrayz-9/
END:VEVENT
BEGIN:VEVENT
DTSTART;TZID=America/Los_Angeles:20240221T130000
DTEND;TZID=America/Los_Angeles:20240221T140000
DTSTAMP:20260424T103457
CREATED:20231128T181558Z
LAST-MODIFIED:20240205T184212Z
UID:13529-1708520400-1708524000@yiddishlandcalifornia.org
SUMMARY:Leyenkrayz (Reading Circle) for Intermediate and Advanced Students
DESCRIPTION:This event is one that you won’t forget. Students of intermediate II level will practice reading and translating skills without judgment and comparisons. \nWhere: Online via Zoom
URL:https://yiddishlandcalifornia.org/event/leyenkrayz-reading-circle-for-intermediate-and-advanced-students-6/
END:VEVENT
BEGIN:VEVENT
DTSTART;TZID=America/Los_Angeles:20240228T130000
DTEND;TZID=America/Los_Angeles:20240228T140000
DTSTAMP:20260424T103457
CREATED:20231128T181508Z
LAST-MODIFIED:20240205T184323Z
UID:13527-1709125200-1709128800@yiddishlandcalifornia.org
SUMMARY:Leyenkrayz (Reading Circle) for Intermediate and Advanced Students
DESCRIPTION:This event is one that you won’t forget. Students of intermediate II level will practice reading and translating skills without judgment and comparisons. \nWhere: Online via Zoom
URL:https://yiddishlandcalifornia.org/event/leyenkrayz-reading-circle-for-intermediate-and-advanced-students-5/
END:VEVENT
END:VCALENDAR