BEGIN:VCALENDAR
VERSION:2.0
PRODID:-//Yiddishland California - ECPv6.15.16//NONSGML v1.0//EN
CALSCALE:GREGORIAN
METHOD:PUBLISH
X-WR-CALNAME:Yiddishland California
X-ORIGINAL-URL:https://yiddishlandcalifornia.org
X-WR-CALDESC:Events for Yiddishland California
REFRESH-INTERVAL;VALUE=DURATION:PT1H
X-Robots-Tag:noindex
X-PUBLISHED-TTL:PT1H
BEGIN:VTIMEZONE
TZID:America/Los_Angeles
BEGIN:DAYLIGHT
TZOFFSETFROM:-0800
TZOFFSETTO:-0700
TZNAME:PDT
DTSTART:20230312T100000
END:DAYLIGHT
BEGIN:STANDARD
TZOFFSETFROM:-0700
TZOFFSETTO:-0800
TZNAME:PST
DTSTART:20231105T090000
END:STANDARD
BEGIN:DAYLIGHT
TZOFFSETFROM:-0800
TZOFFSETTO:-0700
TZNAME:PDT
DTSTART:20240310T100000
END:DAYLIGHT
BEGIN:STANDARD
TZOFFSETFROM:-0700
TZOFFSETTO:-0800
TZNAME:PST
DTSTART:20241103T090000
END:STANDARD
BEGIN:DAYLIGHT
TZOFFSETFROM:-0800
TZOFFSETTO:-0700
TZNAME:PDT
DTSTART:20250309T100000
END:DAYLIGHT
BEGIN:STANDARD
TZOFFSETFROM:-0700
TZOFFSETTO:-0800
TZNAME:PST
DTSTART:20251102T090000
END:STANDARD
END:VTIMEZONE
BEGIN:VEVENT
DTSTART;TZID=America/Los_Angeles:20240628T123000
DTEND;TZID=America/Los_Angeles:20240719T133000
DTSTAMP:20260421T175716
CREATED:20240626T200449Z
LAST-MODIFIED:20250929T155058Z
UID:16699-1719577800-1721395800@yiddishlandcalifornia.org
SUMMARY:Conversational Yiddish for Beginners with Avi
DESCRIPTION:Conversational Yiddish for Beginners with Avi \nCome enjoy some fun conversation in Yiddish\, practicing asking and answering questions and playing games. This is a no-pressure\, easygoing class. The class is “drop-in” style\, so feel free to attend all six sessions or as many as you wish. Everything will be presented in Yiddish with transliteration\, as well as in English. There is no homework\, but optional review materials will be sent out after each class. Sessions will be recorded upon request. \n\n\n\n\nWhen: Fridays\, beginning on June 14\, ending on July 19\, 12:30 – 1.30 p.m. PT (2:30 – 3:30 p.m. CT\, 3:30 – 4:30 p.m. ET)\, if needed dates and times can be adjusted to student’s availability. \nWhere: On Zoom \nCost : \nEarly Bird : $150 for a 6 session package (available until Friday June 7) \nRegular Admission: $200 for a 6 session package \nIndividual Session Early Bird: $30 (available until Friday June 7) \nIndividual Session Regular: $35
URL:https://yiddishlandcalifornia.org/event/conversational-yiddish-for-beginners-with-avi-7/
LOCATION:Zoom
ORGANIZER;CN="Yiddishland California":MAILTO:info@yiddishlandcalifornia.org
END:VEVENT
BEGIN:VEVENT
DTSTART;TZID=America/Los_Angeles:20240708T193000
DTEND;TZID=America/Los_Angeles:20240722T203000
DTSTAMP:20260421T175716
CREATED:20240628T173528Z
LAST-MODIFIED:20250929T155136Z
UID:16769-1720467000-1721680200@yiddishlandcalifornia.org
SUMMARY:Yiddishland Stronger Together Support Group
DESCRIPTION:Yiddishland Stronger Together Support Group \nDo you feel sadness\, grief\, anxiety\, or a mix of emotions from the devastating effects of war? Let’s gather for community support\, guided by a professional coach informed in trauma care. We don’t have to grapple with this by ourselves. This is the time to come together. \nOur Coach’s Bio: Harpal Khalsa holds a master degree in clinical mental health counseling and currently serves as a professional mental health care and lifestyle coach here in La Jolla Village. Her experience in the international field of disaster trauma and group counseling facilitation allow her to support this local Jewish community to share\, grieve\, and empower each other through these radical times of terrorism\, war\, and social upheaval. \nWhen: Monday\, July 8 and Monday\, July 22\, 7:30 p.m. to 8:30 p.m. PST (10:30 p.m. to 11:30 p.m. EST\, 9:30 p.m. to 10:30 p.m. CST) \nWhere: Zoom
URL:https://yiddishlandcalifornia.org/event/yiddishland-stronger-together-support-group-7/
LOCATION:Zoom
ORGANIZER;CN="Yiddishland California":MAILTO:info@yiddishlandcalifornia.org
END:VEVENT
BEGIN:VEVENT
DTSTART;TZID=America/Los_Angeles:20240716T100000
DTEND;TZID=America/Los_Angeles:20240820T110000
DTSTAMP:20260421T175716
CREATED:20240619T155745Z
LAST-MODIFIED:20240619T155808Z
UID:16175-1721124000-1724151600@yiddishlandcalifornia.org
SUMMARY:Beginners: Judeo-Spanish (Ladino) Letter
DESCRIPTION:Course on Reading and Speaking Judeo-Spanish (Ladino)\nThis new Judeo-Spanish (Ladino) course is based on Sephardic tales. Students will have the opportunity to read them in the Latin alphabet. We will also practice speaking skills\, and those who want will receive short writing tasks. Elements of the Hebrew Rashi script will be included as well. This course is appropriate for people with basic knowledge of Ladino or Spanish. If needed\, the dates of the course can be adjusted to match students’ availability. \nTuesdays\, July 16th – August 20th\, 10-11 a.m. PT \nCost: Early bird $210\, Regular $300 for 6 hourly sessions\,  \nTeacher: Dr Agnieszka August-Zarębska is an assistant professor in the Taube Department of Jewish Studies at the University of Wrocław\, Poland. She has a degree in Spanish Studies\, and her current research interests include contemporary Ladino poetry\, contemporary literary translations into Ladino\, and Sephardic children’s literature. She has also worked on critical editions of early 20th-century Judeo-Spanish literature.
URL:https://yiddishlandcalifornia.org/event/beginners-judeo-spanish-ladino-letter-june-2024/
LOCATION:Zoom
ORGANIZER;CN="Yiddishland California":MAILTO:info@yiddishlandcalifornia.org
END:VEVENT
END:VCALENDAR