BEGIN:VCALENDAR
VERSION:2.0
PRODID:-//Yiddishland California - ECPv6.15.16//NONSGML v1.0//EN
CALSCALE:GREGORIAN
METHOD:PUBLISH
X-WR-CALNAME:Yiddishland California
X-ORIGINAL-URL:https://yiddishlandcalifornia.org
X-WR-CALDESC:Events for Yiddishland California
REFRESH-INTERVAL;VALUE=DURATION:PT1H
X-Robots-Tag:noindex
X-PUBLISHED-TTL:PT1H
BEGIN:VTIMEZONE
TZID:America/Los_Angeles
BEGIN:DAYLIGHT
TZOFFSETFROM:-0800
TZOFFSETTO:-0700
TZNAME:PDT
DTSTART:20240310T100000
END:DAYLIGHT
BEGIN:STANDARD
TZOFFSETFROM:-0700
TZOFFSETTO:-0800
TZNAME:PST
DTSTART:20241103T090000
END:STANDARD
BEGIN:DAYLIGHT
TZOFFSETFROM:-0800
TZOFFSETTO:-0700
TZNAME:PDT
DTSTART:20250309T100000
END:DAYLIGHT
BEGIN:STANDARD
TZOFFSETFROM:-0700
TZOFFSETTO:-0800
TZNAME:PST
DTSTART:20251102T090000
END:STANDARD
BEGIN:DAYLIGHT
TZOFFSETFROM:-0800
TZOFFSETTO:-0700
TZNAME:PDT
DTSTART:20260308T100000
END:DAYLIGHT
BEGIN:STANDARD
TZOFFSETFROM:-0700
TZOFFSETTO:-0800
TZNAME:PST
DTSTART:20261101T090000
END:STANDARD
END:VTIMEZONE
BEGIN:VTIMEZONE
TZID:America/Detroit
BEGIN:DAYLIGHT
TZOFFSETFROM:-0500
TZOFFSETTO:-0400
TZNAME:EDT
DTSTART:20240310T070000
END:DAYLIGHT
BEGIN:STANDARD
TZOFFSETFROM:-0400
TZOFFSETTO:-0500
TZNAME:EST
DTSTART:20241103T060000
END:STANDARD
BEGIN:DAYLIGHT
TZOFFSETFROM:-0500
TZOFFSETTO:-0400
TZNAME:EDT
DTSTART:20250309T070000
END:DAYLIGHT
BEGIN:STANDARD
TZOFFSETFROM:-0400
TZOFFSETTO:-0500
TZNAME:EST
DTSTART:20251102T060000
END:STANDARD
BEGIN:DAYLIGHT
TZOFFSETFROM:-0500
TZOFFSETTO:-0400
TZNAME:EDT
DTSTART:20260308T070000
END:DAYLIGHT
BEGIN:STANDARD
TZOFFSETFROM:-0400
TZOFFSETTO:-0500
TZNAME:EST
DTSTART:20261101T060000
END:STANDARD
END:VTIMEZONE
BEGIN:VEVENT
DTSTART;TZID=America/Los_Angeles:20251102T110000
DTEND;TZID=America/Los_Angeles:20251102T120000
DTSTAMP:20260421T034055
CREATED:20250910T161231Z
LAST-MODIFIED:20251030T030721Z
UID:33763-1762081200-1762084800@yiddishlandcalifornia.org
SUMMARY:Yiddish for Absolute Beginners 2: Basic Grammar and Conversation
DESCRIPTION:NEW! 8-Session Yiddish Course \nThis course is perfect for those who have completed the course Yiddish for Absolute Beginners\, as well as others who can already read the Yiddish Alef-Beys and have had around 10 hours of prior instruction (about A1.1 level). Among other things\, students will learn to write in Yiddish\, practice introducing themselves and using everyday greetings\, and become familiar with common verbs. While the main emphasis is on consolidating elementary grammar\, the course also employs a multimedia approach to introduce students to Yiddish culture\, literature\, and music through short texts\, audiovisual materials\, and guided exercises. All materials will be provided by the instructor. \nWhen: Sundays\, October 5\, 2025 – November 23\, 2025 : 11 a.m. – 12 p.m. PT / 2 p.m. – 3 p.m. ET/ 1 p.m. – 2 p.m. CT/ 8 p.m. – 9 p.m. in Central Europe. \nCost: 8 classes for $340 (early bird\, if paid before Wednesday\, September 10\, 2025) \nRegular Admission: 8 classes for $370 \nTeacher: Julia Koifman \nJulia Koifman is a Lecturer in Yiddish language and literature at the University of Potsdam. She studied Slavic and German Studies in Berlin and Moscow\, as well as Yiddish and Jewish Studies in Potsdam\, Haifa\, and New York. She previously worked at the Institute for Slavic Studies at Humboldt University and served as a tutor for Yiddish language and literature at the University of Potsdam. Her MA thesis presented a comparative analysis of short stories by the Yiddish authors Rokhl Brokhes and Roze Palatnik. In addition\, she works as a translator of Yiddish literature into German and English.
URL:https://yiddishlandcalifornia.org/event/yiddish-for-absolute-beginners-2-basic-grammar-and-conversation/
LOCATION:Zoom
ATTACH;FMTTYPE=image/jpeg:https://yiddishlandcalifornia.org/wp-content/uploads/2025/09/Julia-Beginners.jpg
ORGANIZER;CN="The Yiddish Arts and Academics Association of North America":MAILTO:info@yaaana.org
END:VEVENT
BEGIN:VEVENT
DTSTART;TZID=America/Los_Angeles:20251103T100000
DTEND;TZID=America/Los_Angeles:20251103T110000
DTSTAMP:20260421T034055
CREATED:20250930T025615Z
LAST-MODIFIED:20251028T205831Z
UID:34815-1762164000-1762167600@yiddishlandcalifornia.org
SUMMARY:New Course of Judeo-Spanish (Ladino) for Beginners: ¡Buyrun al Ladino!
DESCRIPTION:Have you ever wanted to explore Sephardic heritage\, learn the unique language of the Spanish Jews\, or simply try something new and enriching? Join our Judeo-Spanish (Ladino) Course for Beginners! \nWhat to Expect:\n✔ Learn to speak\, read\, and understand basic Judeo-Spanish (Ladino)\n✔ Read Ladino in both Latin and (a little) Rashi script\n✔ Discover Sephardic culture through proverbs\, songs\, and traditions\n✔ Study at a comfortable pace – no prior knowledge required! \nWhether you’re a student\, a language lover\, or looking to reconnect with your family roots – this course is for you. \nWhen: Mondays\, October 20 – November 24\, 10.00-11.00 a.m. PT (12:00-1:00 p.m. CT\, 1:00-2:00 p.m. ET\, 6:00-7:00 p.m. in the UK\, 7:00-8:00 p.m. in Central Europe) \nCosts: \nEarly bird (if registered before October 6): 6 classes for $250 \nRegular Registration: 6 classes for $300 \nTeacher: Agnieszka August-Zarębska \nShe is an assistant professor in the Taube Department of Jewish Studies at the University of Wrocław\, Poland. She has a degree in Spanish Studies and her current research interests include contemporary Ladino poetry\, contemporary literary translations into Ladino and Sephardic children’s literature. She also worked on critical editions of the early 20th century Judeo-Spanish literature.
URL:https://yiddishlandcalifornia.org/event/new-course-of-judeo-spanish-ladino-for-beginners-buyrun-al-ladino/
LOCATION:Zoom
ATTACH;FMTTYPE=image/png:https://yiddishlandcalifornia.org/wp-content/uploads/2025/09/Screenshot-2025-09-29-225918.png
ORGANIZER;CN="The Yiddish Arts and Academics Association of North America":MAILTO:info@yaaana.org
END:VEVENT
BEGIN:VEVENT
DTSTART;TZID=America/Detroit:20251104T130000
DTEND;TZID=America/Detroit:20251104T140000
DTSTAMP:20260421T034055
CREATED:20250805T214323Z
LAST-MODIFIED:20251028T223825Z
UID:32131-1762261200-1762264800@yiddishlandcalifornia.org
SUMMARY:News in mame-loshn: Reading der Forverts in Yiddish  [Registration Closed – This class is Sold Out]
DESCRIPTION:Strengthen your Yiddish reading and translation skills in this 6-week online course for intermediate-level students. Guided entirely in Yiddish\, this class offers a warm\, supportive environment where you’ll read and translate selected articles from Der Forverts\, a cornerstone of Yiddish-language writing. Along the way\, you’ll expand your vocabulary and deepen your understanding of modern and historical Yiddish culture—all at your own pace\, without pressure or comparison. \nThe images featured above were provided courtesy of the Forward. \nWhen: The class starting in October is full. The 2nd group will meet every Tuesday\, starting on December 2\, 2025 ending on January 6\, 2026: 1–2 p.m. PT / 3–4 p.m. CT / 4–5 p.m. ET / 10–11 p.m. Central Europe \nWhere: Online via Zoom \nCost: \nEarly Bird: $150 for all 6 weeks or $25 for each 60-minute online class (early bird\, if paid before Tuesday\, November 18\, 2025) \nStudent Pricing (Upload ID): $150 all 6 weeks or $25 for a 60-minute online class \nRegular Pricing: $180 for all 6 weeks or $30 for each 60-minute online class \nInstructor: Tetyana Yakovleva \nTetyana studied Comparative Literature\, Classical\, Slavic\, Jewish\, and Media Studies at the universities of Kharkiv\, Regensburg\, Bari\, and San Diego. She received her PhD in Slavic and Jewish Studies from the University of Regensburg in 2019 and since then she has been teaching for YAAANA.
URL:https://yiddishlandcalifornia.org/event/news-in-mame-loshn-reading-der-forverts-in-yiddish/
LOCATION:Zoom
ATTACH;FMTTYPE=image/png:https://yiddishlandcalifornia.org/wp-content/uploads/2025/08/Forverts-1.png
ORGANIZER;CN="The Yiddish Arts and Academics Association of North America":MAILTO:info@yaaana.org
END:VEVENT
BEGIN:VEVENT
DTSTART;TZID=America/Los_Angeles:20251106T120000
DTEND;TZID=America/Los_Angeles:20251106T130000
DTSTAMP:20260421T034055
CREATED:20251013T154521Z
LAST-MODIFIED:20251017T032511Z
UID:35308-1762430400-1762434000@yiddishlandcalifornia.org
SUMMARY:Jewish Emotional Support Meditation Circle
DESCRIPTION:Join Harpal Khalsa for a simple hour of guided meditation\, self reflection\, and energy healing.\nEmbrace this opportunity to release stress and worry\, create harmony within\, and share compassion and hope. \nWhen: 2nd Thursdays of the month — October 9\, November 6\, December 11\, January 11Time: 12–1 p.m. PT / 3–4 p.m. ET / 9–10 p.m. Central Europe& 6–7 p.m. PT / 9–10 p.m. ET / 3–4 a.m. (next day) Central Europe \nWhere: Online (Zoom or your platform link here) \nCost: Suggested Donation: $5–$36 (sliding scale)Options: $5\, $18\, $36 \nGuide: Harpal Khalsa \nOur Coach’s Bio: Harpal Khalsa holds a master degree in clinical mental health counseling and currently serves as a professional mental health care and lifestyle coach here in La Jolla Village. Her experience in the international field of disaster trauma and group counseling facilitation allow her to support this local Jewish community to share\, grieve\, and empower each other through these radical times of terrorism\, war\, and social upheaval.
URL:https://yiddishlandcalifornia.org/event/jewish-emotional-support-meditation-circle-2/
LOCATION:Zoom
ATTACH;FMTTYPE=image/png:https://yiddishlandcalifornia.org/wp-content/uploads/2025/10/HealingHeartsWeb.png
ORGANIZER;CN="The Yiddish Arts and Academics Association of North America":MAILTO:info@yaaana.org
END:VEVENT
BEGIN:VEVENT
DTSTART;TZID=America/Los_Angeles:20251110T100000
DTEND;TZID=America/Los_Angeles:20251110T110000
DTSTAMP:20260421T034055
CREATED:20251028T210240Z
LAST-MODIFIED:20251028T210240Z
UID:35872-1762768800-1762772400@yiddishlandcalifornia.org
SUMMARY:New Course of Judeo-Spanish (Ladino) for Beginners: ¡Buyrun al Ladino!
DESCRIPTION:Have you ever wanted to explore Sephardic heritage\, learn the unique language of the Spanish Jews\, or simply try something new and enriching? Join our Judeo-Spanish (Ladino) Course for Beginners! \nWhat to Expect:\n✔ Learn to speak\, read\, and understand basic Judeo-Spanish (Ladino)\n✔ Read Ladino in both Latin and (a little) Rashi script\n✔ Discover Sephardic culture through proverbs\, songs\, and traditions\n✔ Study at a comfortable pace – no prior knowledge required! \nWhether you’re a student\, a language lover\, or looking to reconnect with your family roots – this course is for you. \nWhen: Mondays\, October 20 – November 24\, 10.00-11.00 a.m. PT (12:00-1:00 p.m. CT\, 1:00-2:00 p.m. ET\, 6:00-7:00 p.m. in the UK\, 7:00-8:00 p.m. in Central Europe) \nCosts: \nEarly bird (if registered before October 6): 6 classes for $250 \nRegular Registration: 6 classes for $300 \nTeacher: Agnieszka August-Zarębska \nShe is an assistant professor in the Taube Department of Jewish Studies at the University of Wrocław\, Poland. She has a degree in Spanish Studies and her current research interests include contemporary Ladino poetry\, contemporary literary translations into Ladino and Sephardic children’s literature. She also worked on critical editions of the early 20th century Judeo-Spanish literature.
URL:https://yiddishlandcalifornia.org/event/new-course-of-judeo-spanish-ladino-for-beginners-buyrun-al-ladino-2/
LOCATION:Zoom
ATTACH;FMTTYPE=image/png:https://yiddishlandcalifornia.org/wp-content/uploads/2025/09/Screenshot-2025-09-29-225918-1.png
ORGANIZER;CN="The Yiddish Arts and Academics Association of North America":MAILTO:info@yaaana.org
END:VEVENT
BEGIN:VEVENT
DTSTART;TZID=America/Detroit:20251111T130000
DTEND;TZID=America/Detroit:20251111T140000
DTSTAMP:20260421T034055
CREATED:20251028T220244Z
LAST-MODIFIED:20251028T220244Z
UID:35879-1762866000-1762869600@yiddishlandcalifornia.org
SUMMARY:News in mame-loshn: Reading der Forverts in Yiddish
DESCRIPTION:Strengthen your Yiddish reading and translation skills in this 6-week online course for intermediate-level students. Guided entirely in Yiddish\, this class offers a warm\, supportive environment where you’ll read and translate selected articles from Der Forverts\, a cornerstone of Yiddish-language writing. Along the way\, you’ll expand your vocabulary and deepen your understanding of modern and historical Yiddish culture—all at your own pace\, without pressure or comparison. \nThe images featured above were provided courtesy of the Forward. \nWhen: The class starting in October is full. The 2nd group will meet every Tuesday\, starting on December 2\, 2025 ending on January 6\, 2026: 1–2 p.m. PT / 3–4 p.m. CT / 4–5 p.m. ET / 10–11 p.m. Central Europe \nWhere: Online via Zoom \nCost: \nEarly Bird: $150 for all 6 weeks or $25 for each 60-minute online class (early bird\, if paid before Tuesday\, November 18\, 2025) \nStudent Pricing (Upload ID): $150 all 6 weeks or $25 for a 60-minute online class \nRegular Pricing: $180 for all 6 weeks or $30 for each 60-minute online class \nInstructor: Tetyana Yakovleva \nTetyana studied Comparative Literature\, Classical\, Slavic\, Jewish\, and Media Studies at the universities of Kharkiv\, Regensburg\, Bari\, and San Diego. She received her PhD in Slavic and Jewish Studies from the University of Regensburg in 2019 and since then she has been teaching for YAAANA.
URL:https://yiddishlandcalifornia.org/event/news-in-mame-loshn-reading-der-forverts-in-yiddish-1-1/
LOCATION:Zoom
ATTACH;FMTTYPE=image/png:https://yiddishlandcalifornia.org/wp-content/uploads/2025/08/Forverts-1.png
ORGANIZER;CN="The Yiddish Arts and Academics Association of North America":MAILTO:info@yaaana.org
END:VEVENT
BEGIN:VEVENT
DTSTART;TZID=America/Los_Angeles:20251116T110000
DTEND;TZID=America/Los_Angeles:20251116T170000
DTSTAMP:20260421T034055
CREATED:20251030T030934Z
LAST-MODIFIED:20251113T214103Z
UID:35938-1763290800-1763312400@yiddishlandcalifornia.org
SUMMARY:Yiddish for Absolute Beginners 2: Basic Grammar and Conversation
DESCRIPTION:NEW! 8-Session Yiddish Course \nThis course is perfect for those who have completed the course Yiddish for Absolute Beginners\, as well as others who can already read the Yiddish Alef-Beys and have had around 10 hours of prior instruction (about A1.1 level). Among other things\, students will learn to write in Yiddish\, practice introducing themselves and using everyday greetings\, and become familiar with common verbs. While the main emphasis is on consolidating elementary grammar\, the course also employs a multimedia approach to introduce students to Yiddish culture\, literature\, and music through short texts\, audiovisual materials\, and guided exercises. All materials will be provided by the instructor. \nWhen: Sundays\, October 5\, 2025 – November 23\, 2025 : 11 a.m. – 12 p.m. PT / 2 p.m. – 3 p.m. ET/ 1 p.m. – 2 p.m. CT/ 8 p.m. – 9 p.m. in Central Europe. \nCost: 8 classes for $340 (early bird\, if paid before Wednesday\, September 10\, 2025) \nRegular Admission: 8 classes for $370 \nTeacher: Julia Koifman \nJulia Koifman is a Lecturer in Yiddish language and literature at the University of Potsdam. She studied Slavic and German Studies in Berlin and Moscow\, as well as Yiddish and Jewish Studies in Potsdam\, Haifa\, and New York. She previously worked at the Institute for Slavic Studies at Humboldt University and served as a tutor for Yiddish language and literature at the University of Potsdam. Her MA thesis presented a comparative analysis of short stories by the Yiddish authors Rokhl Brokhes and Roze Palatnik. In addition\, she works as a translator of Yiddish literature into German and English.
URL:https://yiddishlandcalifornia.org/event/yiddish-for-absolute-beginners-2-basic-grammar-and-conversation-2/
LOCATION:Zoom
ATTACH;FMTTYPE=image/jpeg:https://yiddishlandcalifornia.org/wp-content/uploads/2025/09/Julia-Beginners.jpg
ORGANIZER;CN="The Yiddish Arts and Academics Association of North America":MAILTO:info@yaaana.org
END:VEVENT
BEGIN:VEVENT
DTSTART;TZID=America/Los_Angeles:20251117T100000
DTEND;TZID=America/Los_Angeles:20251117T110000
DTSTAMP:20260421T034055
CREATED:20251028T211021Z
LAST-MODIFIED:20251112T054445Z
UID:35874-1763373600-1763377200@yiddishlandcalifornia.org
SUMMARY:New Course of Judeo-Spanish (Ladino) for Beginners: ¡Buyrun al Ladino!
DESCRIPTION:Have you ever wanted to explore Sephardic heritage\, learn the unique language of the Spanish Jews\, or simply try something new and enriching? Join our Judeo-Spanish (Ladino) Course for Beginners! \nWhat to Expect:\n✔ Learn to speak\, read\, and understand basic Judeo-Spanish (Ladino)\n✔ Read Ladino in both Latin and (a little) Rashi script\n✔ Discover Sephardic culture through proverbs\, songs\, and traditions\n✔ Study at a comfortable pace – no prior knowledge required! \nWhether you’re a student\, a language lover\, or looking to reconnect with your family roots – this course is for you. \nWhen: Mondays\, October 20 – November 24\, 10.00-11.00 a.m. PT (12:00-1:00 p.m. CT\, 1:00-2:00 p.m. ET\, 6:00-7:00 p.m. in the UK\, 7:00-8:00 p.m. in Central Europe) \nCosts: \nEarly bird (if registered before October 6): 6 classes for $250 \nRegular Registration: 6 classes for $300 \nTeacher: Agnieszka August-Zarębska \nShe is an assistant professor in the Taube Department of Jewish Studies at the University of Wrocław\, Poland. She has a degree in Spanish Studies and her current research interests include contemporary Ladino poetry\, contemporary literary translations into Ladino and Sephardic children’s literature. She also worked on critical editions of the early 20th century Judeo-Spanish literature.
URL:https://yiddishlandcalifornia.org/event/new-course-of-judeo-spanish-ladino-for-beginners-buyrun-al-ladino-3/
LOCATION:Zoom
ATTACH;FMTTYPE=image/png:https://yiddishlandcalifornia.org/wp-content/uploads/2025/09/Screenshot-2025-09-29-225918-1.png
ORGANIZER;CN="The Yiddish Arts and Academics Association of North America":MAILTO:info@yaaana.org
END:VEVENT
BEGIN:VEVENT
DTSTART;TZID=America/Detroit:20251118T130000
DTEND;TZID=America/Detroit:20251118T140000
DTSTAMP:20260421T034055
CREATED:20251028T220510Z
LAST-MODIFIED:20251112T062425Z
UID:35881-1763470800-1763474400@yiddishlandcalifornia.org
SUMMARY:News in mame-loshn: Reading der Forverts in Yiddish (Event Full)
DESCRIPTION:Strengthen your Yiddish reading and translation skills in this 6-week online course for intermediate-level students. Guided entirely in Yiddish\, this class offers a warm\, supportive environment where you’ll read and translate selected articles from Der Forverts\, a cornerstone of Yiddish-language writing. Along the way\, you’ll expand your vocabulary and deepen your understanding of modern and historical Yiddish culture—all at your own pace\, without pressure or comparison. \nThe images featured above were provided courtesy of the Forward. \nWhen: The class starting in October is full. The 2nd group will meet every Tuesday\, starting on December 2\, 2025 ending on January 6\, 2026: 1–2 p.m. PT / 3–4 p.m. CT / 4–5 p.m. ET / 10–11 p.m. Central Europe \nWhere: Online via Zoom \nCost: \nEarly Bird: $150 for all 6 weeks or $25 for each 60-minute online class (early bird\, if paid before Tuesday\, November 18\, 2025) \nStudent Pricing (Upload ID): $150 all 6 weeks or $25 for a 60-minute online class \nRegular Pricing: $180 for all 6 weeks or $30 for each 60-minute online class \nInstructor: Tetyana Yakovleva \nTetyana studied Comparative Literature\, Classical\, Slavic\, Jewish\, and Media Studies at the universities of Kharkiv\, Regensburg\, Bari\, and San Diego. She received her PhD in Slavic and Jewish Studies from the University of Regensburg in 2019 and since then she has been teaching for YAAANA.
URL:https://yiddishlandcalifornia.org/event/news-in-mame-loshn-reading-der-forverts-in-yiddish-1-2/
LOCATION:Zoom
ATTACH;FMTTYPE=image/png:https://yiddishlandcalifornia.org/wp-content/uploads/2025/08/Forverts-1.png
ORGANIZER;CN="The Yiddish Arts and Academics Association of North America":MAILTO:info@yaaana.org
END:VEVENT
BEGIN:VEVENT
DTSTART;TZID=America/Los_Angeles:20251123T110000
DTEND;TZID=America/Los_Angeles:20251123T170000
DTSTAMP:20260421T034055
CREATED:20251030T031148Z
LAST-MODIFIED:20251121T002104Z
UID:35941-1763895600-1763917200@yiddishlandcalifornia.org
SUMMARY:Yiddish for Absolute Beginners 2: Basic Grammar and Conversation
DESCRIPTION:NEW! 8-Session Yiddish Course \nThis course is perfect for those who have completed the course Yiddish for Absolute Beginners\, as well as others who can already read the Yiddish Alef-Beys and have had around 10 hours of prior instruction (about A1.1 level). Among other things\, students will learn to write in Yiddish\, practice introducing themselves and using everyday greetings\, and become familiar with common verbs. While the main emphasis is on consolidating elementary grammar\, the course also employs a multimedia approach to introduce students to Yiddish culture\, literature\, and music through short texts\, audiovisual materials\, and guided exercises. All materials will be provided by the instructor. \nWhen: Sundays\, October 5\, 2025 – November 23\, 2025 : 11 a.m. – 12 p.m. PT / 2 p.m. – 3 p.m. ET/ 1 p.m. – 2 p.m. CT/ 8 p.m. – 9 p.m. in CET. \nCost: 8 classes for $340 (early bird\, if paid before Wednesday\, September 10\, 2025) \nRegular Admission: 8 classes for $370 \nTeacher: Julia Koifman \nJulia Koifman is a Lecturer in Yiddish language and literature at the University of Potsdam. She studied Slavic and German Studies in Berlin and Moscow\, as well as Yiddish and Jewish Studies in Potsdam\, Haifa\, and New York. She previously worked at the Institute for Slavic Studies at Humboldt University and served as a tutor for Yiddish language and literature at the University of Potsdam. Her MA thesis presented a comparative analysis of short stories by the Yiddish authors Rokhl Brokhes and Roze Palatnik. In addition\, she works as a translator of Yiddish literature into German and English.
URL:https://yiddishlandcalifornia.org/event/yiddish-for-absolute-beginners-2-basic-grammar-and-conversation-3/
LOCATION:Zoom
ATTACH;FMTTYPE=image/jpeg:https://yiddishlandcalifornia.org/wp-content/uploads/2025/09/Julia-Beginners.jpg
ORGANIZER;CN="The Yiddish Arts and Academics Association of North America":MAILTO:info@yaaana.org
END:VEVENT
BEGIN:VEVENT
DTSTART;TZID=America/Los_Angeles:20251124T100000
DTEND;TZID=America/Los_Angeles:20251124T110000
DTSTAMP:20260421T034055
CREATED:20251028T211205Z
LAST-MODIFIED:20251121T002007Z
UID:35876-1763978400-1763982000@yiddishlandcalifornia.org
SUMMARY:New Course of Judeo-Spanish (Ladino) for Beginners: ¡Buyrun al Ladino!
DESCRIPTION:Have you ever wanted to explore Sephardic heritage\, learn the unique language of the Spanish Jews\, or simply try something new and enriching? Join our Judeo-Spanish (Ladino) Course for Beginners! \nWhat to Expect:✔ Learn to speak\, read\, and understand basic Judeo-Spanish (Ladino)✔ Read Ladino in both Latin and (a little) Rashi script✔ Discover Sephardic culture through proverbs\, songs\, and traditions✔ Study at a comfortable pace – no prior knowledge required! \nWhether you’re a student\, a language lover\, or looking to reconnect with your family roots – this course is for you. \nWhen: Mondays\, October 20 – November 24\, 10.00-11.00 a.m. PT (12:00-1:00 p.m. CT\, 1:00-2:00 p.m. ET\, 6:00-7:00 p.m. in the UK\, 7:00-8:00 p.m. in CET) \nCosts: \nEarly bird (if registered before October 6): 6 classes for $250 \nRegular Registration: 6 classes for $300 \nTeacher: Agnieszka August-Zarębska \nShe is an assistant professor in the Taube Department of Jewish Studies at the University of Wrocław\, Poland. She has a degree in Spanish Studies and her current research interests include contemporary Ladino poetry\, contemporary literary translations into Ladino and Sephardic children’s literature. She also worked on critical editions of the early 20th century Judeo-Spanish literature.
URL:https://yiddishlandcalifornia.org/event/new-course-of-judeo-spanish-ladino-for-beginners-buyrun-al-ladino-4/
LOCATION:Zoom
ATTACH;FMTTYPE=image/png:https://yiddishlandcalifornia.org/wp-content/uploads/2025/09/Screenshot-2025-09-29-225918-1.png
ORGANIZER;CN="The Yiddish Arts and Academics Association of North America":MAILTO:info@yaaana.org
END:VEVENT
BEGIN:VEVENT
DTSTART;TZID=America/Detroit:20251125T130000
DTEND;TZID=America/Detroit:20251125T140000
DTSTAMP:20260421T034055
CREATED:20251028T220738Z
LAST-MODIFIED:20251121T001835Z
UID:35883-1764075600-1764079200@yiddishlandcalifornia.org
SUMMARY:News in mame-loshn: Reading der Forverts in Yiddish
DESCRIPTION:Strengthen your Yiddish reading and translation skills in this 6-week online course for intermediate-level students. Guided entirely in Yiddish\, this class offers a warm\, supportive environment where you’ll read and translate selected articles from Der Forverts\, a cornerstone of Yiddish-language writing. Along the way\, you’ll expand your vocabulary and deepen your understanding of modern and historical Yiddish culture—all at your own pace\, without pressure or comparison. \nThe images featured above were provided courtesy of the Forward. \nWhen: The class starting in October is full. The 2nd group will meet every Tuesday\, starting on December 2\, 2025 ending on January 6\, 2026: 1–2 p.m. PT / 3–4 p.m. CT / 4–5 p.m. ET / 10–11 p.m. CET \nWhere: Online via Zoom \nCost: \nEarly Bird: $150 for all 6 weeks or $25 for each 60-minute online class (early bird\, if paid before Tuesday\, November 18\, 2025) \nStudent Pricing (Upload ID): $150 all 6 weeks or $25 for a 60-minute online class \nRegular Pricing: $180 for all 6 weeks or $30 for each 60-minute online class \nInstructor: Tetyana Yakovleva \nTetyana studied Comparative Literature\, Classical\, Slavic\, Jewish\, and Media Studies at the universities of Kharkiv\, Regensburg\, Bari\, and San Diego. She received her PhD in Slavic and Jewish Studies from the University of Regensburg in 2019 and since then she has been teaching for YAAANA.
URL:https://yiddishlandcalifornia.org/event/news-in-mame-loshn-reading-der-forverts-in-yiddish-1-3/
LOCATION:Zoom
ATTACH;FMTTYPE=image/png:https://yiddishlandcalifornia.org/wp-content/uploads/2025/08/Forverts-1.png
ORGANIZER;CN="The Yiddish Arts and Academics Association of North America":MAILTO:info@yaaana.org
END:VEVENT
BEGIN:VEVENT
DTSTART;TZID=America/Detroit:20251130T080000
DTEND;TZID=America/Detroit:20251130T090000
DTSTAMP:20260421T034055
CREATED:20250805T215637Z
LAST-MODIFIED:20251121T001724Z
UID:32137-1764489600-1764493200@yiddishlandcalifornia.org
SUMMARY:Yoga for Gratitude in Yiddish
DESCRIPTION:In this yoga class instructed in Yiddish with English translation\, we will practice yoga and mindfulness that focuses on gratitude. Gratitude and yoga help detoxify the mind\, body and connect to a larger reason for being. The slow and gentle nature of this class is perfect for beginners and is also great for other students who can sink deeper into their practice. \nWhen: Sunday\, November 30\, 8:00 – 9:00 a.m. PT ( 10:00 – 11:00 a.m. CT\, 11:00 – 12:00 p.m. ET\, 4:00 – 5:00 p.m. in the UK\, 5:00 – 6:00 p.m. in CET). \nWhere: on Zoom \nEarly Bird (if paid on/before Wednesday\, November 26\, 2025):$15 \nRegular admission (if paid after Wednesday\, November 26\, 2025): $20 \nInstructor: Tetyana Yakovleva \nShe studied Comparative Literature\, Classical\, Slavic\, Jewish\, and Media Studies at the universities of Kharkiv\, Regensburg\, Bari\, and San Diego. Tanya received her PhD in Slavic and Jewish Studies from the University of Regensburg in 2019 and since then she has been teaching for YAAANA. Tanya is a registered yoga teacher (RYT 200) and she sees her mission in bringing joy and equilibrium to people through yoga and Yiddish.
URL:https://yiddishlandcalifornia.org/event/yoga-for-gratitude-in-yiddish-4/
LOCATION:Zoom
ATTACH;FMTTYPE=image/webp:https://yiddishlandcalifornia.org/wp-content/uploads/2025/08/poster-yoga-nov.jpg.webp
ORGANIZER;CN="The Yiddish Arts and Academics Association of North America":MAILTO:info@yaaana.org
END:VEVENT
END:VCALENDAR